Workbook
Name Excel_BuiltIn__FilterDatabase: 手元現金出納帳・銀行預金出納帳!$B$1:$J$7

Sheet 手元現金出納帳・銀行預金出納帳
A1: 手元現金出納帳 (2020/4/1～2021/3/31)
A2: 処理日 | B2: 領収書等月日 | C2: 収支 | D2: 科目 | E2: 補助科目 | F2: 摘要 | G2: 領収書等貼付ページ | H2: 購入先/支払先等 | I2: 収入 | J2: 支出 | K2: 残高
A3: 43922 | C3: 繰越 | F3: 前期繰越手許現金 | I3: 91819 | K3: =+I3-J3 -> 91819
A4: 43960 | B4: 43929 | C4: 支出 | D4: 04.活動費③募金支出 | E4: ①緑の募金 | F4: ①緑の募金 | G4: 1 | H4: 東京都緑化推進委員会江戸川地区委員会 | J4: 1000 | K4: =K3+I4-J4 -> 90819
A5: 43960 | B5: 43927 | C5: 支出 | D5: 07.消耗品 | E5: 消耗品 | F5: 釣り糸 道糸10号(0.520mm)、50m、透明 | G5: 1 | H5: キャスティング北葛西店 | J5: 467 | K5: =K4+I5-J5 -> 90352
A6: 43960 | B6: 43927 | C6: 支出 | D6: 07.消耗品 | E6: 消耗品 | F6: 二重リング 27mm、11個入り | G6: 1 | H6: ダイソーサニーモール西葛西店 | J6: 110 | K6: =K5+I6-J6 -> 90242
A7: 43960 | B7: 43927 | C7: 支出 | D7: 07.消耗品 | E7: 消耗品 | F7: 結束バンド 長さ7cm、白色、屋内用、120本入り | G7: 1 | H7: ダイソーサニーモール西葛西店 | J7: 110 | K7: =K6+I7-J7 -> 90132
A8: 43948 | C8: 取消 | D8: 08.渉外費 | E8: ●弔慰金 | F8: 弔慰金（424高橋幸子様/4月19日逝去） | J8: 10000 | K8: =K7+I8-J8 -> 80132
A9: 43960 | B9: 43948 | C9: 収入 | D9: 04.その他収入①集団回収 | E9: アルミ缶回収費 | F9: 2020年04月 140kg×@50円 | G9: 2 | H9: 渡辺商店 | I9: 7000 | K9: =K8+I9-J9 -> 87132
A10: 43972 | C10: 支出 | D10: 08.渉外費 | E10: ●弔慰金 | F10: 弔慰金（613宮森洋子様/5月17日逝去） | G10: 2 | J10: 10000 | K10: =K9+I10-J10 -> 77132
A11: 43974 | B11: 43974 | C11: 移動 | F11: 預金口座より手許現金引き出し 200,000円 | I11: 200000 | K11: =K10+I11-J11 -> 277132
A12: 43981 | B12: 43981 | C12: 支出 | D12: 05.印刷関係費 | E12: 第34期コピー機使用料 | F12: 第34期コピー機使用料 | G12: 2 | H12: バームハイツ西葛西管理組合 | J12: 61360 | K12: =K11+I12-J12 -> 215772
A13: 43988 | B13: 43974 | C13: 支出 | D13: 04.活動費④諸経費 | E13: 総会後懇談会費（飲み物） | F13: ローソンマチカフェ コーヒーM×4、アイスコーヒーM×2 | G13: 3 | H13: ローソン西葛西店 | J13: 882 | K13: =K12+I13-J13 -> 214890
A14: 43988 | B14: 43981 | C14: 支出 | D14: 04.活動費④諸経費 | E14: 会議費（飲み物） | F14: サントリー緑茶伊右衛門600ml×3、コカ・コーラゼロ500ml×2 | G14: 3 | H14: ローソン西葛西店 | J14: 633 | K14: =K13+I14-J14 -> 214257
A15: 44006 | C15: 支出 | D15: 08.渉外費 | E15: ●弔慰金 | F15: 弔慰金（112青木三和様/5月29日逝去） | G15: 3 | J15: 10000 | K15: =K14+I15-J15 -> 204257
A16: 44016 | B16: 43977 | C16: 支出 | D16: 04.活動費①行事支出 | E16: ①七夕飾り | F16: パチッとロック、キラキラホログラムチェーン他 | G16: 4 | H16: ダイソーサニーモール西葛西店 | J16: 880 | K16: =K15+I16-J16 -> 203377
A17: 44016 | B17: 43979 | C17: 支出 | D17: 07.消耗品 | E17: 消耗品 | F17: 結束バンド、スティックのり | G17: 4 | H17: カインズ南砂町SUNAMO店 | J17: 846 | K17: =K16+I17-J17 -> 202531
A18: 44016 | B18: 43994 | C18: 支出 | D18: 04.活動費①行事支出 | E18: ①七夕飾り | F18: トリプルスター、キラキラネットかざり、短冊他 | G18: 4 | H18: パッケージプラザ 葛西店 | J18: 7319 | K18: =K17+I18-J18 -> 195212
A19: 44016 | B19: 43994 | C19: 支出 | D19: 07.消耗品 | E19: 消耗品 | F19: 除菌液（消毒液） | G19: 4 | H19: パッケージプラザ 葛西店 | J19: 1082 | K19: =K18+I19-J19 -> 194130
A20: 44016 | C20: 支出 | D20: 04.活動費④諸経費 | E20: 印刷費 | F20: 七夕飾り関連印刷費 | G20: 4 | H20: 荻原役員 | J20: 310 | K20: =K19+I20-J20 -> 193820
A21: 44016 | C21: 支出 | D21: 04.活動費④諸経費 | E21: 印刷費 | F21: コミュニティルーム使用計画（2020年度） | G21: 4 | H21: 荻原役員 | J21: 70 | K21: =K20+I21-J21 -> 193750
A22: 44016 | C22: 支出 | D22: 04.活動費④諸経費 | E22: 印刷費 | F22: 第16期自治会定例総会関連 | G22: 5 | H22: 荻原役員 | J22: 120 | K22: =K21+I22-J22 -> 193630
A23: 44016 | C23: 支出 | D23: 04.活動費④諸経費 | E23: 交通費 | F23: 七夕飾り購入（カインズ南砂町SUNAMO店）西葛西↔南砂町 | G23: 5 | H23: 荻原役員 | J23: 340 | K23: =K22+I23-J23 -> 193290
A24: 44016 | B24: 44011 | C24: 支出 | D24: 04.活動費①行事支出 | E24: ①七夕飾り | F24: 短冊 | G24: 5 | H24: イトーヨーカドー アリオ葛西店 | J24: 660 | K24: =K23+I24-J24 -> 192630
A25: 44016 | B25: 44003 | C25: 支出 | D25: 04.活動費④諸経費 | E25: 七夕飾りお茶代（飲み物） | F25: サントリー緑茶伊右衛門600ml×5、キリン生茶600ml×4他 | G25: 5 | H25: ローソン西葛西店 | J25: 1699 | K25: =K24+I25-J25 -> 190931
A26: 44016 | B26: 44004 | C26: 支出 | D26: 02.自治連年会費 | E26: 宇喜田・小島地区自治連協議会分担金 | F26: 宇喜田・小島地区自治連協議会分担金 | G26: 6 | H26: 宇喜田・小島地区自治連協議会 | J26: 23000 | K26: =K25+I26-J26 -> 167931
A27: 44016 | B27: 43976 | C27: 収入 | D27: 04.その他収入①集団回収 | E27: アルミ缶回収費 | F27: 2020年05月 120kg×@50円 | G27: 6 | H27: 渡辺商店 | I27: 6000 | K27: =K26+I27-J27 -> 173931
A28: 44016 | B28: 44011 | C28: 収入 | D28: 04.その他収入①集団回収 | E28: アルミ缶回収費 | F28: 2020年06月 180kg×@50円 | G28: 6 | H28: 渡辺商店 | I28: 9000 | K28: =K27+I28-J28 -> 182931
A29: 44044 | C29: 取消 | D29: 08.渉外費 | E29: ●弔慰金 | F29: 弔慰金（424高橋幸子様/4月19日逝去）一旦引き取り | I29: 10000 | K29: =K28+I29-J29 -> 192931
A31: 銀行預金出納帳 (2020/4/1～2021/3/31)
A32: 処理日 | B32: =B2 -> 領収書等月日 | C32: =C2 -> 収支 | D32: =D2 -> 科目 | E32: =E2 -> 補助科目 | F32: =F2 -> 摘要 | G32: =G2 -> 領収書等貼付ページ | H32: =H2 -> 購入先/支払先等 | I32: =I2 -> 収入 | ... K32: =K2 -> 残高
A33: 43922 | C33: 繰越 | F33: 前期末預金口座残高 | I33: 1627082 | K33: =+I33-J33 -> 1627082
A34: 43966 | B34: 43966 | C34: 収入 | D34: 04.その他収入①集団回収 | E34: 集団回収報奨金(2019/10-2020/03) | F34: 2,710 kg× @6円 | H34: 江戸川区環境部清掃課ごみ減量係 | I34: 16260 | K34: =K33+I34-J34 -> 1643342
A35: 43974 | B35: 43974 | C35: 移動 | F35: 自治会運営会議手元現金の出金 | J35: 200000 | K35: =K34+I35-J35 -> 1443342
A36: 43979 | B36: 43979 | C36: 収入 | D36: 01.コミュニティ費 | E36: 第34期コミュニティー費 | F36: 第34期コミュニティー費 | H36: バームハイツ西葛西管理組合 | I36: 500000 | K36: =K35+I36-J36 -> 1943342
A37: 43979 | B37: 43979 | C37: 支出 | D37: 09.銀行手数料 | E37: 振込手数料 | F37: 振込手数料 | J37: 550 | K37: =K36+I37-J37 -> 1942792
A38: 44016 | B38: 44011 | C38: 収入 | D38: 02.区・文書等配布委託金 | E38: 刊行物配布委託料 | F38: 刊行物配布委託料 | I38: 130800 | K38: =K37+I38-J38 -> 2073592
A39: 44016 | B39: 44011 | C39: 支出 | D39: 01.行政分担金 | E39: 葛西地区自治会連合会分担金 | F39: 葛西地区自治会連合会分担金 | H39: 葛西地区自治会連合会 | J39: 11990 | K39: =K38+I39-J39 -> 2061602
A40: 44016 | B40: 44011 | C40: 支出 | D40: 01.行政分担金 | E40: 社会福祉協議会正会員会費 | F40: 社会福祉協議会正会員会費 | H40: 江戸川区社会福祉協議会 | J40: 2180 | K40: =K39+I40-J40 -> 2059422
A41: 44016 | B41: 44011 | C41: 支出 | D41: 01.行政分担金 | E41: 青少年育成葛西第一地区委員会助成金 | F41: 青少年育成葛西第一地区委員会助成金 | H41: 青少年育成葛西第一地区委員会 | J41: 4360 | K41: =K40+I41-J41 -> 2055062
...

Sheet 各種データリスト
A1: 収支 | B1: 科目
A2: 繰越 | B2: 収入 | C2: 01.コミュニティ費
A3: 移動 | C3: 02.区・文書等配布委託金
A4: 支出 | C4: 03.行事収入
A5: 収入 | C5: 04.その他収入①集団回収
A6: 取消 | C6: 04.その他収入②その他
C7: 05.寄付金
C8: 06.募金
B9: 支出 | C9: 01.行政分担金
C10: 02.自治連年会費
C11: 03.防犯協会加入分担金
C12: 04.活動費①行事支出
C13: 04.活動費②自治会保険料
C14: 04.活動費③募金支出
C15: 04.活動費④諸経費
C16: 05.印刷関係費
C17: 06.備品費
C18: 07.消耗品
C19: 08.渉外費
C20: 09.銀行手数料

Sheet 収支表示（集計）
A1: 別添1（続き）
A3: 第17期自治会収支報告 (2020/4/1～2021/3/31)
D4: データ
A5: 収支 | B5: 科目 | C5: 補助科目 | D5: 収入の部 | E5: 支出の部
A6: 収入 | B6: 01.コミュニティ費 | C6: 第34期コミュニティー費 | D6: 500000
B7: 01.コミュニティ費 集計 | D7: 500000
B8: 02.区・文書等配布委託金 | C8: 刊行物配布委託料 | D8: 130800
B9: 02.区・文書等配布委託金 集計 | D9: 130800
B10: 04.その他収入①集団回収 | C10: アルミ缶回収費 | D10: 22000
C11: 集団回収報奨金(2019/10-2020/03) | D11: 16260
B12: 04.その他収入①集団回収 集計 | D12: 38260
A13: 支出 | B13: 01.行政分担金 | C13: 葛西まつり分担金 | E13: 6540
C14: 葛西地区自治会連合会分担金 | E14: 11990
C15: 葛西防犯カメラの会分担金 | E15: 6540
C16: 社会福祉協議会正会員会費 | E16: 2180
C17: 青少年育成葛西第一地区委員会助成金 | E17: 4360
B18: 01.行政分担金 集計 | E18: 31610
B19: 02.自治連年会費 | C19: 宇喜田・小島地区自治連協議会分担金 | E19: 23000
B20: 02.自治連年会費 集計 | E20: 23000
B21: 04.活動費①行事支出 | C21: ①七夕飾り | E21: 8859
B22: 04.活動費①行事支出 集計 | E22: 8859
B23: 04.活動費③募金支出 | C23: ①緑の募金 | E23: 1000
B24: 04.活動費③募金支出 集計 | E24: 1000
B25: 04.活動費④諸経費 | C25: 印刷費 | E25: 500
C26: 会議費（飲み物） | E26: 633
C27: 交通費 | E27: 340
C28: 七夕飾りお茶代（飲み物） | E28: 1699
C29: 総会後懇談会費（飲み物） | E29: 882
B30: 04.活動費④諸経費 集計 | E30: 4054
B31: 05.印刷関係費 | C31: 第34期コピー機使用料 | E31: 61360
B32: 05.印刷関係費 集計 | E32: 61360
B33: 07.消耗品 | C33: 消耗品 | E33: 2615
B34: 07.消耗品 集計 | E34: 2615
B35: 08.渉外費 | C35: ●弔慰金 | E35: 20000
B36: 08.渉外費 集計 | E36: 20000
B37: 09.銀行手数料 | C37: 振込手数料 | E37: 1414
B38: 09.銀行手数料 集計 | E38: 1414
A39: 総計 | D39: 669060 | E39: 153912

Sheet 予算実績表
A2: 第17期（令和2年度）予算実績表（2020年8月1日現在）
A4: 2020年4月1日～2021年3月31日 | H4: (単位：円）
A5: 収 入 の 部 | E5: 支 出 の 部
A6: 科 目 | B6: 予算額 | C6: 実績額 | D6: 予算残 | E6: 科 目 | F6: 予算額 | G6: 実績額 | H6: 予算残
A7: コミュニティ費 | B7: 500000 | C7: =IFERROR(GETPIVOTDATA("収入の部",'収支表示（集計）'!$A$4,"収支","収入","科目","01.コミュニティ費"),0) -> 500000 | D7: =B7-C7 -> 0 | E7: 行政分担金 | F7: 31610 | G7: =IFERROR(GETPIVOTDATA("支出の部",'収支表示（集計）'!$A$4,"収支","支出","科目","01.行政分担金"),0) -> 31610 | H7: =F7-G7 -> 0
A8: 区・文書等配布委託金 | B8: 130800 | C8: =IFERROR(GETPIVOTDATA("収入の部",'収支表示（集計）'!$A$4,"収支","収入","科目","02.区・文書等配布委託金"),0) -> 130800 | D8: =B8-C8 -> 0 | E8: 自治連年会費 | F8: 23000 | G8: =IFERROR(GETPIVOTDATA("支出の部",'収支表示（集計）'!$A$4,"収支","支出","科目","02.自治連年会費"),0) -> 23000 | H8: =F8-G8 -> 0
A9: 行事収入 | B9: 40000 | C9: =IFERROR(GETPIVOTDATA("収入の部",'収支表示（集計）'!$A$4,"収支","収入","科目","03.行事収入"),0) -> 0 | D9: =B9-C9 -> 40000 | E9: 防犯協会加入分担金 | F9: 12630 | G9: =IFERROR(GETPIVOTDATA("支出の部",'収支表示（集計）'!$A$4,"収支","支出","科目","03.防犯協会加入分担金"),0) -> 0 | H9: =F9-G9 -> 12630
A10: その他収入 | B10: =B11+B12+B13 -> 84012 | C10: =C11+C12+C13 -> 38260 | D10: =B10-C10 -> 45752 | E10: 活動費 | F10: =SUM(F11:F14) -> 503854 | G10: =SUM(G11:G14) -> 13913 | H10: =F10-G10 -> 489941
A11: ①集団回収報奨金 | B11: 14000 | C11: =IFERROR(GETPIVOTDATA("収入の部",'収支表示（集計）'!$A$4,"収支","収入","科目","04.その他収入①集団回収","補助科目","集団回収報奨金(2019/10-2020/03)"),0)+IFERROR(GETPIVOTDATA("収入の部",'収支表示（集計）'!$A$4,"収支","収入","科目","04.その他収入①集団回収","補助科目","集団回収報奨金(2020/4-2020/09)"),0) -> 16260 | D11: =B11-C11 -> -2260 | E11: ①行事支出 | F11: 451000 | G11: =IFERROR(GETPIVOTDATA("支出の部",'収支表示（集計）'!$A$4,"収支","支出","科目","04.活動費①行事支出"),0) -> 8859 | H11: =F11-G11 -> 442141
A12: ②アルミ缶回収費 | B12: 70000 | C12: =IFERROR(GETPIVOTDATA("収入の部",'収支表示（集計）'!$A$4,"収支","収入","科目","04.その他収入①集団回収","補助科目","アルミ缶回収費"),0) -> 22000 | D12: =B12-C12 -> 48000 | E12: ②自治会保険料 | F12: 33354 | G12: =IFERROR(GETPIVOTDATA("支出の部",'収支表示（集計）'!$A$4,"収支","支出","科目","04.活動費②自治会保険料"),0) -> 0 | H12: =F12-G12 -> 33354
A13: ③その他 | B13: 12 | C13: =IFERROR(GETPIVOTDATA("収入の部",'収支表示（集計）'!$A$4,"収支","収入","科目","04.その他収入②その他"),0) -> 0 | D13: =B13-C13 -> 12 | E13: ③募金支出 | F13: 14000 | G13: =IFERROR(GETPIVOTDATA("支出の部",'収支表示（集計）'!$A$4,"収支","支出","科目","04.活動費③募金支出"),0) -> 1000 | H13: =F13-G13 -> 13000
A14: 寄付金 | B14: 150000 | C14: =IFERROR(GETPIVOTDATA("収入の部",'収支表示（集計）'!$A$4,"収支","収入","科目","05.寄付金"),0) -> 0 | D14: =B14-C14 -> 150000 | E14: ④諸経費 | F14: 5500 | G14: =IFERROR(GETPIVOTDATA("支出の部",'収支表示（集計）'!$A$4,"収支","支出","科目","04.活動費④諸経費"),0) -> 4054 | H14: =F14-G14 -> 1446
A15: 募金 | B15: 5000 | C15: =IFERROR(GETPIVOTDATA("収入の部",'収支表示（集計）'!$A$4,"収支","収入","科目","06.募金"),0) -> 0 | D15: =B15-C15 -> 5000 | E15: 印刷関係費（コピー機使用料） | F15: 50000 | G15: =IFERROR(GETPIVOTDATA("支出の部",'収支表示（集計）'!$A$4,"収支","支出","科目","05.印刷関係費"),0) -> 61360 | H15: =F15-G15 -> -11360
E16: 備品費 | F16: 10000 | G16: =IFERROR(GETPIVOTDATA("支出の部",'収支表示（集計）'!$A$4,"収支","支出","科目","06.備品費"),0) -> 0 | H16: =F16-G16 -> 10000
E17: 消耗品費 | F17: 50000 | G17: =IFERROR(GETPIVOTDATA("支出の部",'収支表示（集計）'!$A$4,"収支","支出","科目","07.消耗品"),0) -> 2615 | H17: =F17-G17 -> 47385
E18: 渉外費 | F18: 140000 | G18: =IFERROR(GETPIVOTDATA("支出の部",'収支表示（集計）'!$A$4,"収支","支出","科目","08.渉外費"),0) -> 20000 | H18: =F18-G18 -> 120000
E19: 銀行手数料 | F19: 3250 | G19: =IFERROR(GETPIVOTDATA("支出の部",'収支表示（集計）'!$A$4,"収支","支出","科目","09.銀行手数料"),0) -> 1414 | H19: =F19-G19 -> 1836
E20: 予備費 | F20: 80000 | G20: 0 | H20: =F20-G20 -> 80000
A21: 収入合計 | B21: =B7+B8+B9+B10+B14+B15 -> 909812 | C21: =C7+C8+C9+C10+C14+C15 -> 669060 | D21: =B21-C21 -> 240752 | E21: 支出合計 | F21: =F7+F8+F9+F10+F15+F16+F17+F18+F19+F20 -> 904344 | G21: =SUM(G7:G10)+SUM(G15:G20) -> 153912 | H21: =F21-G21 -> 750432
