Workbook
Name Excel_BuiltIn__FilterDatabase: 手元現金出納帳・銀行預金出納帳!$B$1:$J$12

Sheet 手元現金出納帳・銀行預金出納帳
A1: 手元現金出納帳 (2019/4/1～2020/3/31)
A2: 処理日 | B2: 領収書等月日 | C2: 収支 | D2: 科目 | E2: 補助科目 | F2: 摘要 | G2: 領収書等貼付ページ | H2: 購入先/支払先等 | I2: 収入 | J2: 支出 | K2: 残高
A3: 43556 | C3: 繰越 | F3: 前期繰越手許現金 | I3: 121529 | K3: =+I3-J3 -> 121529
A4: 43575 | B4: 43566 | C4: 支出 | D4: 04.活動費③募金支出 | E4: ①緑の募金 | F4: ①緑の募金 | G4: 1 | J4: 1000 | K4: =K3+I4-J4 -> 120529
A5: 43589 | B5: 43585 | C5: 収入 | D5: 04.その他収入①集団回収 | E5: アルミ缶回収費 | F5: 2019年04月 120kg×@50円 | G5: 2 | H5: 渡辺商店 | I5: 6000 | K5: =K4+I5-J5 -> 126529
A6: 43589 | B6: 43568 | C6: 支出 | D6: 04.活動費①行事支出 | E6: ①端午の節句(5/5) | F6: 生花 カジュアル 4本 | G6: 2 | H6: TOKYO FLOWER MARKET 西葛西メトロ店 | J6: 1160 | K6: =K5+I6-J6 -> 125369
A7: 43589 | B7: 43582 | C7: 支出 | D7: 04.活動費①行事支出 | E7: ①端午の節句(5/5) | F7: 生花 洋花 12本 | G7: 2 | H7: 島忠ホームズ葛西店 | J7: 2556 | K7: =K6+I7-J7 -> 122813
A8: 43589 | B8: 43589 | C8: 支出 | D8: 04.活動費④諸経費 | E8: 印刷費 | F8: 定例総会資料コピー 570枚×@10円 | G8: 3 | H8: ローソン西葛西店 | J8: 5700 | K8: =K7+I8-J8 -> 117113
A9: 43590 | B9: 43590 | C9: 支出 | D9: 08.渉外費 | E9: ①宇喜田・小島地区自治連懇親会（5/5） | F9: ①宇喜田・小島地区自治連懇親会 2名×@3,000円 | G9: 3 | H9: 宇喜田・小島地区自治連絡協議会 | J9: 6000 | K9: =K8+I9-J9 -> 111113
A10: 43604 | B10: 43594 | C10: 支出 | D10: 04.活動費③募金支出 | E10: ②赤十字社活動募金 | F10: ②赤十字社活動募金 | G10: 4 | H10: 日本赤十字社東京都支部江戸川区地区 | J10: 2000 | K10: =K9+I10-J10 -> 109113
A11: 43616 | B11: 43604 | C11: 支出 | D11: 08.渉外費 | E11: ②自治会会議費懇親会費(5/19) | F11: 自治会会議費懇親会費(5/19) 8人 | G11: 5 | H11: 浜焼きダイニング和師 西葛西店 | J11: 27345 | K11: =K10+I11-J11 -> 81768
A12: 43617 | B12: 43612 | C12: 収入 | D12: 04.その他収入①集団回収 | E12: アルミ缶回収費 | F12: 2019年05月 110kg×@50円 | G12: 5 | H12: 渡辺商店 | I12: 5500 | K12: =K11+I12-J12 -> 87268
A13: 43636 | B13: 43636 | C13: 移動 | F13: 預金口座より手許現金引き出し 200,000円 | I13: 200000 | K13: =K12+I13-J13 -> 287268
A14: 43637 | C14: 支出 | D14: 08.渉外費 | E14: ●弔慰金 | F14: 弔慰金（107髙木金三郎様/6月14日逝去） | J14: 10000 | K14: =K13+I14-J14 -> 277268
A15: 43645 | B15: 43591 | C15: 支出 | D15: 04.活動費④諸経費 | E15: 印刷費 | F15: 定例総会(5/19)掲示物 | G15: 6 | H15: 荻原役員 | J15: 120 | K15: =K14+I15-J15 -> 277148
A16: 43645 | B16: 43642 | C16: 支出 | D16: 04.活動費①行事支出 | E16: ②七夕飾り(7/7) | F16: 掲示物印刷 | G16: 7 | H16: 荻原役員 | J16: 200 | K16: =K15+I16-J16 -> 276948
A17: 43645 | B17: 43619 | C17: 支出 | D17: 04.活動費①行事支出 | E17: ②七夕飾り(7/7) | F17: 結束バンド | G17: 8 | H17: カインズ南砂町SUNAMO店 | J17: 1044 | K17: =K16+I17-J17 -> 275904
A18: 43645 | B18: 43620 | C18: 支出 | D18: 04.活動費①行事支出 | E18: ②七夕飾り(7/7) | F18: 短冊 | G18: 8 | H18: イオン葛西店 | J18: 483 | K18: =K17+I18-J18 -> 275421
A19: 43645 | B19: 43620 | C19: 支出 | D19: 04.活動費①行事支出 | E19: ②七夕飾り(7/7) | F19: ウオールステッカー他 | G19: 8 | H19: ダイソーサニーモール西葛西店 | J19: 864 | K19: =K18+I19-J19 -> 274557
A20: 43645 | B20: 43620 | C20: 支出 | D20: 04.活動費①行事支出 | E20: ②七夕飾り(7/7) | F20: メッキ吹き流し他 | G20: 8 | H20: パッケージプラザ 葛西店 | J20: 3377 | K20: =K19+I20-J20 -> 271180
A21: 43645 | B21: 43625 | C21: 支出 | D21: 04.活動費①行事支出 | E21: ②七夕飾り(7/7) | F21: 短冊 | G21: 8 | H21: ダイソーサニーモール西葛西店 | J21: 216 | K21: =K20+I21-J21 -> 270964
A22: 43645 | B22: 43638 | C22: 支出 | D22: 04.活動費①行事支出 | E22: ②七夕飾り(7/7) | F22: 丸キリ、カラーワイヤー、ファイルケース | G22: 8 | H22: ダイソーサニーモール西葛西店 | J22: 324 | K22: =K21+I22-J22 -> 270640
A23: 43645 | B23: 43638 | C23: 支出 | D23: 04.活動費①行事支出 | E23: ②七夕飾り(7/7) | F23: ゴミ袋 | G23: 8 | H23: キャンドゥメトロセンター3番街店 | J23: 216 | K23: =K22+I23-J23 -> 270424
A24: 43652 | B24: 43623 | C24: 支出 | D24: 02.自治連年会費 | E24: 宇喜田・小島地区自治連協議会分担金 | F24: 宇喜田・小島地区自治連協議会分担金 | G24: 9 | H24: 宇喜田・小島地区自治連協議会 | J24: 23000 | K24: =K23+I24-J24 -> 247424
A25: 43652 | B25: 43614 | C25: 支出 | D25: 04.活動費④諸経費 | E25: 印刷費 | F25: 刊行物配布口座名義変更通帳コピー（河本） 2枚×@10円 | G25: 10 | J25: 20 | K25: =K24+I25-J25 -> 247404
A26: 43652 | B26: 43622 | C26: 支出 | D26: 04.活動費④諸経費 | E26: 消耗品 | F26: 自治会挨拶状はがき 2枚×＠62円 | G26: 10 | H26: ローソン西葛西店 | J26: 124 | K26: =K25+I26-J26 -> 247280
A27: 43652 | B27: 43622 | C27: 支出 | D27: 04.活動費④諸経費 | E27: 消耗品 | F27: 集団回収代表者変更届切手 1枚×＠82円 | G27: 10 | J27: 82 | K27: =K26+I27-J27 -> 247198
A28: 43652 | B28: 43622 | C28: 支出 | D28: 04.活動費④諸経費 | E28: 印刷費 | F28: 自治会挨拶状 8枚×＠10円 | G28: 10 | J28: 80 | K28: =K27+I28-J28 -> 247118
A29: 43652 | B29: 43622 | C29: 支出 | D29: 04.活動費④諸経費 | E29: 印刷費 | F29: 口座名義変更届通帳コピー 2枚×＠10円 | G29: 10 | J29: 20 | K29: =K28+I29-J29 -> 247098
A30: 43652 | B30: 43649 | C30: 支出 | D30: 04.活動費④諸経費 | E30: 交通費 | F30: 区長懇談会 | G30: 10 | J30: 555 | K30: =K29+I30-J30 -> 246543
A31: 43652 | B31: 43640 | C31: 収入 | D31: 04.その他収入①集団回収 | E31: アルミ缶回収費 | F31: 2019年06月 120kg×@50円 | G31: 10 | H31: 渡辺商店 | I31: 6000 | K31: =K30+I31-J31 -> 252543
A32: 43662 | B32: 43575 | C32: 収入 | D32: 06.募金 | E32: ④歳末たすけあい運動募金（2019） | F32: バザー後売上 | G32: 11 | H32: ヴァンベール西葛西店 | I32: 300 | K32: =K31+I32-J32 -> 252843
A33: 43662 | B33: 43612 | C33: 収入 | D33: 06.募金 | E33: ④歳末たすけあい運動募金（2019） | F33: バザー後売上 | G33: 11 | I33: 1890 | K33: =K32+I33-J33 -> 254733
A34: 43677 | B34: 43674 | C34: 収入 | D34: 06.募金 | E34: ④歳末たすけあい運動募金（2019） | F34: バームの夏まつり | I34: 1697 | K34: =K33+I34-J34 -> 256430
A35: 43677 | B35: 43674 | C35: 収入 | D35: 03.行事収入 | E35: ①夏まつり(7/28) | F35: ①夏まつり(7/28) 有料おつまみチケット売上 162枚@100円 | I35: 16200 | K35: =K34+I35-J35 -> 272630
A36: 43677 | B36: 43674 | C36: 収入 | D36: 03.行事収入 | E36: ①夏まつり(7/28) | F36: ①夏まつり(7/28) 参加料 | I36: 14400 | K36: =K35+I36-J36 -> 287030
A37: 43677 | B37: 43674 | C37: 支出 | D37: 04.活動費①行事支出 | E37: ③夏まつり(7/28) | F37: ビール生樽20ℓ×3、ビール生樽10ℓ×1、生樽用氷他 | G37: 12 | H37: 田野商店 | J37: 47200 | K37: =K36+I37-J37 -> 239830
A38: 43677 | B38: 43666 | C38: 支出 | D38: 04.活動費①行事支出 | E38: ③夏まつり(7/28) | F38: ソフトドリンク | G38: 12 | H38: 楽天西友ネットスーパー株式会社 | J38: 3870 | K38: =K37+I38-J38 -> 235960
A39: 43677 | B39: 43666 | C39: 支出 | D39: 04.活動費①行事支出 | E39: ③夏まつり(7/28) | F39: ビンゴカード 3種×@108円 | G39: 12 | H39: ダイソーサニーモール西葛西店 | J39: 324 | K39: =K38+I39-J39 -> 235636
A40: 43677 | B40: 43670 | C40: 支出 | D40: 04.活動費①行事支出 | E40: ③夏まつり(7/28) | F40: クオカード 10点×@490円 | G40: 12 | H40: アクセスチケット新橋店 | J40: 4900 | K40: =K39+I40-J40 -> 230736
...

Sheet 収支表示（集計）
A1: 別添1（続き）
A3: 第16期自治会収支報告 (2019/4/1～2020/3/31)
D4: データ
A5: 収支 | B5: 科目 | C5: 補助科目 | D5: 収入の部 | E5: 支出の部
A6: 収入 | B6: 01.コミュニティ費 | C6: 第33期コミュニティー費 | D6: 500000
B7: 01.コミュニティ費 集計 | D7: 500000
B8: 02.区・文書等配布委託金 | C8: 刊行物配布委託料 | D8: 130800
B9: 02.区・文書等配布委託金 集計 | D9: 130800
B10: 03.行事収入 | C10: ①夏まつり(7/28) | D10: 30600
B11: 03.行事収入 集計 | D11: 30600
B12: 04.その他収入①集団回収 | C12: アルミ缶回収費 | D12: 71500
C13: 集団回収報奨金(2018/10-2019/03) | D13: 24300
C14: 集団回収報奨金(2019/4-2019/09) | D14: 27600
B15: 04.その他収入①集団回収 集計 | D15: 123400
B16: 04.その他収入②その他 | C16: 銀行利息* | D16: 13
B17: 04.その他収入②その他 集計 | D17: 13
B18: 05.寄付金 | C18: ①夏まつり（東京葬祭） | D18: 30000
C19: ②防災訓練（東京葬祭) | D19: 30000
C20: ③運動会（東京葬祭） | D20: 30000
C21: ④バームの新年会（東京葬祭） | D21: 30000
C22: ⑤自治会バザー（東京葬祭） | D22: 30000
B23: 05.寄付金 集計 | D23: 150000
B24: 06.募金 | C24: ④歳末たすけあい運動募金（2019） | D24: 3887
B25: 06.募金 集計 | D25: 3887
A26: 支出 | B26: 01.行政分担金 | C26: 葛西まつり分担金 | E26: 6540
C27: 葛西地区自治会連合会分担金 | E27: 11990
C28: 葛西防犯カメラの会分担金 | E28: 6540
C29: 社会福祉協議会正会員会費 | E29: 2180
C30: 青少年育成葛西第一地区委員会助成金 | E30: 4360
B31: 01.行政分担金 集計 | E31: 31610
B32: 02.自治連年会費 | C32: 宇喜田・小島地区自治連協議会分担金 | E32: 23000
B33: 02.自治連年会費 集計 | E33: 23000
B34: 03.防犯協会加入分担金 | C34: 令和元年度葛西防犯協会支部会費 | E34: 7630
C35: 令和元年度葛西防犯協会特別賛助会費 | E35: 5000
B36: 03.防犯協会加入分担金 集計 | E36: 12630
B37: 04.活動費①行事支出 | C37: ①端午の節句(5/5) | E37: 3716
C38: ②七夕飾り(7/7) | E38: 6724
C39: ③夏まつり(7/28) | E39: 107145
C40: ④防災訓練(9/16) | E40: 440
C41: ⑤運動会(9/22) | E41: 7800
...

Sheet 予算実績表
A2: 第16期（令和元年度）予算実績表
A4: 2019年4月1日～2020年3月31日 | H4: (単位：円）
A5: 収 入 の 部 | E5: 支 出 の 部
A6: 科 目 | B6: 予算額 | C6: 実績額 | D6: 予算残 | E6: 科 目 | F6: 予算額 | G6: 実績額 | H6: 予算残
A7: コミュニティ費 | B7: 500000 | C7: =GETPIVOTDATA("収入の部",'収支表示（集計）'!$A$4,"収支","収入","科目","01.コミュニティ費") -> 500000 | D7: =B7-C7 -> 0 | E7: 行政分担金 | F7: 31610 | G7: =GETPIVOTDATA("支出の部",'収支表示（集計）'!$A$4,"収支","支出","科目","01.行政分担金") -> 31610 | H7: =F7-G7 -> 0
A8: 区・文書等配布委託金 | B8: 130800 | C8: =GETPIVOTDATA("収入の部",'収支表示（集計）'!$A$4,"収支","収入","科目","02.区・文書等配布委託金") -> 130800 | D8: =B8-C8 -> 0 | E8: 自治連年会費 | F8: 23000 | G8: =GETPIVOTDATA("支出の部",'収支表示（集計）'!$A$4,"収支","支出","科目","02.自治連年会費") -> 23000 | H8: =F8-G8 -> 0
A9: 行事収入 | B9: 45000 | C9: =GETPIVOTDATA("収入の部",'収支表示（集計）'!$A$4,"収支","収入","科目","03.行事収入") -> 30600 | D9: =B9-C9 -> 14400 | E9: 防犯協会加入分担金 | F9: 12630 | G9: =GETPIVOTDATA("支出の部",'収支表示（集計）'!$A$4,"収支","支出","科目","03.防犯協会加入分担金") -> 12630 | H9: =F9-G9 -> 0
A10: その他収入 | B10: =B11+B12+B13 -> 105012 | C10: =C11+C12+C13 -> 123413 | D10: =B10-C10 -> -18401 | E10: 活動費 | F10: =SUM(F11:F14) -> 718678 | G10: =SUM(G11:G14) -> 394048 | H10: =F10-G10 -> 324630
A11: ①集団回収報奨金 | B11: 45000 | C11: =GETPIVOTDATA("収入の部",'収支表示（集計）'!$A$4,"収支","収入","科目","04.その他収入①集団回収","補助科目","集団回収報奨金(2018/10-2019/03)")+GETPIVOTDATA("収入の部",'収支表示（集計）'!$A$4,"収支","収入","科目","04.その他収入①集団回収","補助科目","集団回収報奨金(2019/4-2019/09)") -> 51900 | D11: =B11-C11 -> -6900 | E11: ①行事支出 | F11: 645000 | G11: =GETPIVOTDATA("支出の部",'収支表示（集計）'!$A$4,"収支","支出","科目","04.活動費①行事支出") -> 325075 | H11: =F11-G11 -> 319925
A12: ②アルミ缶回収費 | B12: 60000 | C12: =GETPIVOTDATA("収入の部",'収支表示（集計）'!$A$4,"収支","収入","科目","04.その他収入①集団回収","補助科目","アルミ缶回収費") -> 71500 | D12: =B12-C12 -> -11500 | E12: ②自治会保険料 | F12: 33678 | G12: =GETPIVOTDATA("支出の部",'収支表示（集計）'!$A$4,"収支","支出","科目","04.活動費②自治会保険料") -> 33354 | H12: =F12-G12 -> 324
A13: ③その他 | B13: 12 | C13: =GETPIVOTDATA("収入の部",'収支表示（集計）'!$A$4,"収支","収入","科目","04.その他収入②その他") -> 13 | D13: =B13-C13 -> -1 | E13: ③募金支出 | F13: 30000 | G13: =GETPIVOTDATA("支出の部",'収支表示（集計）'!$A$4,"収支","支出","科目","04.活動費③募金支出") -> 24470 | H13: =F13-G13 -> 5530
A14: 寄付金 | B14: 150000 | C14: =GETPIVOTDATA("収入の部",'収支表示（集計）'!$A$4,"収支","収入","科目","05.寄付金") -> 150000 | D14: =B14-C14 -> 0 | E14: ④諸経費 | F14: 10000 | G14: =GETPIVOTDATA("支出の部",'収支表示（集計）'!$A$4,"収支","支出","科目","04.活動費④諸経費") -> 11149 | H14: =F14-G14 -> -1149
A15: 募金 | B15: 40000 | C15: =GETPIVOTDATA("収入の部",'収支表示（集計）'!$A$4,"収支","収入","科目","06.募金") -> 3887 | D15: =B15-C15 -> 36113 | E15: 印刷関係費 | F15: 50000 | G15: =GETPIVOTDATA("支出の部",'収支表示（集計）'!$A$4,"収支","支出","科目","05.印刷関係費") -> 45480 | H15: =F15-G15 -> 4520
E16: 備品費 | F16: 50000 | G16: =GETPIVOTDATA("支出の部",'収支表示（集計）'!$A$4,"収支","支出","科目","06.備品費") -> 8618 | H16: =F16-G16 -> 41382
E17: 消耗品費 | F17: 10000 | G17: =GETPIVOTDATA("支出の部",'収支表示（集計）'!$A$4,"収支","支出","科目","07.消耗品") -> 42290 | H17: =F17-G17 -> -32290
E18: 渉外費 | F18: 170000 | G18: =GETPIVOTDATA("支出の部",'収支表示（集計）'!$A$4,"収支","支出","科目","08.渉外費") -> 101095 | H18: =F18-G18 -> 68905
E19: 銀行手数料 | F19: 3000 | G19: =GETPIVOTDATA("支出の部",'収支表示（集計）'!$A$4,"収支","支出","科目","09.銀行手数料") -> 3250 | H19: =F19-G19 -> -250
E20: 予備費 | F20: 30000 | G20: 0 | H20: =F20-G20 -> 30000
A21: 収入合計 | B21: =B7+B8+B9+B10+B14+B15 -> 970812 | C21: =C7+C8+C9+C10+C14+C15 -> 938700 | D21: =B21-C21 -> 32112 | E21: 支出合計 | F21: =F7+F8+F9+F10+F15+F16+F17+F18+F19+F20 -> 1098918 | G21: =SUM(G7:G10)+SUM(G15:G20) -> 662021 | H21: =F21-G21 -> 436897

Sheet 今期決算書
A1: 別添1
A2: 第16期（令和元年度）決算書
A4: 2019年4月1日～2020年3月31日 | H4: (単位：円）
A5: 収 入 の 部 | E5: 支 出 の 部
A6: 科 目 | B6: 予算額 | C6: 実績額 | D6: 備 考 | E6: 科 目 | F6: 予算額 | G6: 実績額 | H6: 備 考
A7: コミュニティ費 | B7: 500000 | C7: =GETPIVOTDATA("収入の部",'収支表示（集計）'!$A$4,"収支","収入","科目","01.コミュニティ費") -> 500000 | E7: 行政分担金 | F7: 31610 | G7: =GETPIVOTDATA("支出の部",'収支表示（集計）'!$A$4,"収支","支出","科目","01.行政分担金") -> 31610
A8: 区・文書等配布委託金 | B8: 130800 | C8: =GETPIVOTDATA("収入の部",'収支表示（集計）'!$A$4,"収支","収入","科目","02.区・文書等配布委託金") -> 130800 | E8: 自治連年会費 | F8: 23000 | G8: =GETPIVOTDATA("支出の部",'収支表示（集計）'!$A$4,"収支","支出","科目","02.自治連年会費") -> 23000
A9: 行事収入 | B9: 45000 | C9: =GETPIVOTDATA("収入の部",'収支表示（集計）'!$A$4,"収支","収入","科目","03.行事収入") -> 30600 | E9: 防犯協会加入分担金 | F9: 12630 | G9: =GETPIVOTDATA("支出の部",'収支表示（集計）'!$A$4,"収支","支出","科目","03.防犯協会加入分担金") -> 12630
A10: その他収入 | B10: =B11+B12+B13 -> 105012 | C10: =C11+C12+C13 -> 123413 | E10: 活動費 | F10: =SUM(F11:F14) -> 718678 | G10: =SUM(G11:G14) -> 394048
A11: ①集団回収報奨金 | B11: 45000 | C11: =GETPIVOTDATA("収入の部",'収支表示（集計）'!$A$4,"収支","収入","科目","04.その他収入①集団回収","補助科目","集団回収報奨金(2018/10-2019/03)")+GETPIVOTDATA("収入の部",'収支表示（集計）'!$A$4,"収支","収入","科目","04.その他収入①集団回収","補助科目","集団回収報奨金(2019/4-2019/09)") -> 51900 | E11: ①行事支出 | F11: 645000 | G11: =GETPIVOTDATA("支出の部",'収支表示（集計）'!$A$4,"収支","支出","科目","04.活動費①行事支出") -> 325075 | H11: 注４
A12: ②アルミ缶回収費 | B12: 60000 | C12: =GETPIVOTDATA("収入の部",'収支表示（集計）'!$A$4,"収支","収入","科目","04.その他収入①集団回収","補助科目","アルミ缶回収費") -> 71500 | E12: ②自治会保険料 | F12: 33678 | G12: =GETPIVOTDATA("支出の部",'収支表示（集計）'!$A$4,"収支","支出","科目","04.活動費②自治会保険料") -> 33354
A13: ③その他 | B13: 12 | C13: =GETPIVOTDATA("収入の部",'収支表示（集計）'!$A$4,"収支","収入","科目","04.その他収入②その他") -> 13 | D13: 注１ | E13: ③募金支出 | F13: 30000 | G13: =GETPIVOTDATA("支出の部",'収支表示（集計）'!$A$4,"収支","支出","科目","04.活動費③募金支出") -> 24470 | H13: 注５
A14: 寄付金 | B14: 150000 | C14: =GETPIVOTDATA("収入の部",'収支表示（集計）'!$A$4,"収支","収入","科目","05.寄付金") -> 150000 | D14: 注２ | E14: ④諸経費 | F14: 10000 | G14: =GETPIVOTDATA("支出の部",'収支表示（集計）'!$A$4,"収支","支出","科目","04.活動費④諸経費") -> 11149
A15: 募金 | B15: 40000 | C15: =GETPIVOTDATA("収入の部",'収支表示（集計）'!$A$4,"収支","収入","科目","06.募金") -> 3887 | D15: 注３ | E15: 印刷関係費 | F15: 50000 | G15: =GETPIVOTDATA("支出の部",'収支表示（集計）'!$A$4,"収支","支出","科目","05.印刷関係費") -> 45480
E16: 備品費 | F16: 50000 | G16: =GETPIVOTDATA("支出の部",'収支表示（集計）'!$A$4,"収支","支出","科目","06.備品費") -> 8618 | H16: 注６
E17: 消耗品費 | F17: 10000 | G17: =GETPIVOTDATA("支出の部",'収支表示（集計）'!$A$4,"収支","支出","科目","07.消耗品") -> 42290
E18: 渉外費 | F18: 170000 | G18: =GETPIVOTDATA("支出の部",'収支表示（集計）'!$A$4,"収支","支出","科目","08.渉外費") -> 101095 | H18: 注７
E19: 銀行手数料 | F19: 3000 | G19: =GETPIVOTDATA("支出の部",'収支表示（集計）'!$A$4,"収支","支出","科目","09.銀行手数料") -> 3250
E20: 予備費 | F20: 30000 | G20: 0
A21: 収入合計 | B21: =B7+B8+B9+B10+B14+B15 -> 970812 | C21: =C7+C8+C9+C10+C14+C15 -> 938700 | E21: 支出合計 | F21: =F7+F8+F9+F10+F15+F16+F17+F18+F19+F20 -> 1098918 | G21: =SUM(G7:G10)+SUM(G15:G20) -> 662021
A22: 前期繰越金 | B22: 1442222 | C22: =B22 -> 1442222 | E22: 次期繰越金 | F22: =F23-F21 -> 1314116 | G22: =G23-G21 -> 1718901
A23: 収入・繰越金合計 | B23: =B21+B22 -> 2413034 | C23: =C21+C22 -> 2380922 | E23: 支出・繰越金合計 | F23: =B23 -> 2413034 | G23: =C23 -> 2380922
A25: 43953
A26: 第16期収支決算を上記の通り上程し、ご報告いたします。
B27: バームハイツ西葛西自治会
B28: 会 長 | C28: 河本 政美
A29: 43953
A30: 第16期決算書を監査した結果、適正なることを認めます。
B31: 監 事 | C31: 佐々木 健太郎

Sheet 今期貸借対照表
A1: 別添1（続き）
A2: 第16期（令和元年度）貸借対照表
A4: 2020年3月31日現在 | F4: (単位：円）
A5: 資 産 の 部 | D5: 負債及び繰越金の部
A6: 科 目 | C6: 金額 | D6: 科 目 | F6: 金額
A7: 現預金 | B7: 普通預金 | C7: 1627082 | D7: 未払金 | E7: 未払金 | F7: 0
B8: 現金 | C8: 91819 | D8: 前受金 | E8: 前受金 | F8: 0
B9: 小計 | C9: =SUM(C7:C8) -> 1718901 | D9: 預り金 | E9: 預り金・借受金 | F9: 0
D10: 振替金 | E10: 未振替金 | F10: 0
A11: 未収入金 | B11: 未収入金 | C11: 0
B12: 仮払金 | C12: 0
D16: 次期繰越金 | F16: =今期決算書!G22 -> 1718901
A17: 合 計 | C17: =C9+C11+C12 -> 1718901 | D17: 合 計 | F17: =SUM(F7:F16) -> 1718901

Sheet 次期予算案
A1: 別添3
A2: 第17期（令和2年度）予算案
A3: 2020年4月1日～2021年3月31日 | H3: (単位：円）
A4: 収 入 の 部 | E4: 支 出 の 部
A5: 科 目 | B5: 前期実績 | C5: 予算額 | D5: 備 考 | E5: 科 目 | F5: 前期実績 | G5: 予算額 | H5: 備 考
A6: コミュニティ費 | B6: =今期決算書!C7 -> 500000 | C6: ='【行事予算案（入力）】）'!D4 -> 500000 | D6: 注１ | E6: 行政分担金 | F6: =今期決算書!G7 -> 31610 | G6: 31610
A7: 区・文書等配布委託金 | B7: =今期決算書!C8 -> 130800 | C7: 130800 | E7: 自治連年会費 | F7: =今期決算書!G8 -> 23000 | G7: 23000
A8: 行事収入 | B8: =今期決算書!C9 -> 30600 | C8: ='【行事予算案（入力）】）'!D8 -> 40000 | D8: 注２ | E8: 防犯協会加入分担金 | F8: =今期決算書!G9 -> 12630 | G8: 12630
A9: その他収入 | B9: =今期決算書!C10 -> 123413 | C9: =C10+C11+C12 -> 84012 | E9: 活動費 | F9: =今期決算書!G10 -> 394048 | G9: =SUM(G10:G13) -> 503854
A10: ①集団回収報奨金 | B10: =今期決算書!C11 -> 51900 | C10: ='【行事予算案（入力）】）'!D10 -> 14000 | D10: 注３ | E10: ①行事支出 | F10: =今期決算書!G11 -> 325075 | G10: ='【行事予算案（入力）】）'!J18 -> 451000 | H10: 注５
A11: ②アルミ缶回収費 | B11: =今期決算書!C12 -> 71500 | C11: 70000 | E11: ②自治会保険料 | F11: =今期決算書!G12 -> 33354 | G11: 33354
A12: ③その他 | B12: =今期決算書!C13 -> 13 | C12: 12 | D12: 利息等 | E12: ③募金支出 | F12: =今期決算書!G13 -> 24470 | G12: ='【行事予算案（入力）】）'!J22 -> 14000 | H12: 注６
A13: 寄付金 | B13: =今期決算書!C14 -> 150000 | C13: ='【行事予算案（入力）】）'!D15 -> 150000 | D13: 注４ | E13: ④諸経費 | F13: =今期決算書!G14 -> 11149 | G13: ='【行事予算案（入力）】）'!J26 -> 5500 | H13: 注７
A14: 募金 | B14: =今期決算書!C15 -> 3887 | C14: 5000 | E14: 印刷関係費（コピー機使用料） | F14: =今期決算書!G15 -> 45480 | G14: 50000
E15: 備品費 | F15: =今期決算書!G16 -> 8618 | G15: 10000
E16: 消耗品費 | F16: =今期決算書!G17 -> 42290 | G16: 50000
E17: 渉外費 | F17: =今期決算書!G18 -> 101095 | G17: ='【行事予算案（入力）】）'!J30 -> 140000 | H17: 注８
E18: 銀行手数料 | F18: =今期決算書!G19 -> 3250 | G18: 3250
E19: 予備費 | F19: =今期決算書!G20 -> 0 | G19: 80000
A20: 収入合計 | B20: =今期決算書!C21 -> 938700 | C20: =SUM(C6:C9)+C13+C14 -> 909812 | E20: 支出合計 | F20: =今期決算書!G21 -> 662021 | G20: =SUM(G6:G9)+SUM(G14:G19) -> 904344
A21: 前期繰越金 | B21: =今期決算書!C22 -> 1442222 | C21: =今期決算書!G22 -> 1718901 | E21: 次期繰越金 | F21: =今期決算書!G22 -> 1718901 | G21: =G22-G20 -> 1724369
A22: 収入・繰越金合計 | B22: =SUM(B20:B21) -> 2380922 | C22: =SUM(C20:C21) -> 2628713 | E22: 支出・繰越金合計 | F22: =今期決算書!G23 -> 2380922 | G22: =C22 -> 2628713
A27: 予算案注記

Sheet 【行事予算案（入力）】）
A1: [収入の部] | G1: [支出の部]
J2: 今期予算 | L2: 前期実績 | N2: 前期予算
A3: 注１ | B3: コミュニティ費（管理組合より） | G3: 注５ | H3: 行事支出 | I3: 端午の節句飾り | K3: 円（ | L3: 3716 | M3: 円/ | N3: 10000 | O3: 円）
C4: 2019年6月～2020年5月 | D4: 500000 | E4: 円 | I4: 七夕飾り | J4: 10000 | K4: 円（ | L4: 6724 | M4: 円/ | N4: 30000 | O4: 円）
I5: バームの夏まつり | J5: 130000 | K5: 円（ | L5: 107145 | M5: 円/ | N5: 150000 | O5: 円）
A6: 注２ | B6: 行事収入 | C6: バームの夏まつり | D6: 30000 | E6: 円 | I6: 防災訓練 | J6: 500 | K6: 円（ | L6: 440 | M6: 円/ | O6: 円）
C7: バームのいも煮会 | D7: 10000 | E7: 円 | I7: 運動会 | K7: 円（ | L7: 7800 | M7: 円/ | N7: 50000 | O7: 円）
C8: 合計 | D8: =SUM(D6:D7) -> 40000 | E8: 円 | I8: バームのいも煮会 | J8: 80000 | K8: 円（ | L8: 0 | M8: 円/ | N8: 100000 | O8: 円）
I9: おもちつき | K9: 円（ | L9: 0 | M9: 円/ | N9: 130000 | O9: 円）
A10: 注３ | B10: 集団回収報奨金 | D10: 14000 | E10: 円 | I10: クリスマス飾り | J10: 45000 | K10: 円（ | L10: 49398 | M10: 円/ | N10: 10000 | O10: 円）
B11: 段ボール、古着・古布の集団回収を止めたため、区の報奨金 | I11: 年末電飾 | J11: 60000 | K11: 円（ | L11: 42395 | M11: 円/ | N11: 40000 | O11: 円）
B12: が大幅に減少する見込み。 | I12: カレンダー交換会 | J12: 500 | K12: 円（ | L12: 100 | M12: 円/ | O12: 円）
I13: 正月飾り | J13: 70000 | K13: 円（ | L13: 61769 | M13: 円/ | N13: 70000 | O13: 円）
A14: 注４ | B14: 寄付金（東京葬祭より） | I14: 鏡開き | K14: 円（ | L14: 0 | M14: 円/ | N14: 10000 | O14: 円）
C15: @30,000×5回＝ | D15: 150000 | E15: 円 | I15: 新年顔合わせ会 | J15: 40000 | K15: 円（ | L15: 42530 | M15: 円/ | N15: 30000 | O15: 円）
I16: ひな祭り飾り | J16: 10000 | K16: 円（ | L16: 3058 | M16: 円/ | N16: 10000 | O16: 円）
I17: バザー | J17: 5000 | K17: 円（ | L17: 0 | M17: 円/ | N17: 5000 | O17: 円）
I18: 合計 | J18: =SUM(J3:J17) -> 451000 | K18: 円（ | L18: =SUM(L3:L17) -> 325075 | M18: 円/ | N18: =SUM(N3:N17) -> 645000 | O18: 円）
G20: 注６ | H20: 募金支出 | I20: 歳末たすけあい運動募金 | J20: 10000 | K20: 円
I21: その他募金 | J21: 4000 | K21: 円
I22: 合計 | J22: =SUM(J20:J21) -> 14000 | K22: 円
G24: 注７ | H24: 諸経費 | I24: 交通費 | J24: 3000 | K24: 円
I25: 印刷費、会議費他 | J25: 2500 | K25: 円
I26: 合計 | J26: =SUM(J24:J25) -> 5500 | K26: 円
H27: 第16期、コピー機故障対応の為、想定外のコンビニでの印刷費5,700円の支出があった。
H28: 第17期はその分を差し引いた予算としてある。
G30: 注８ | H30: 渉外費 | I30: 自治連会合費他 | J30: 140000 | K30: 円
