Workbook

Sheet 購入計画(2019年度)
B1: バームの夏祭り(2019)購入計画
O2: =NOW() -> 43652.457
B3: 品名 | C3: 2017 | E3: 2018 | H3: 2019
C4: 売上げ数量 (有料券ﾍﾞｰｽ） | D4: 単価 | E4: 売上げ数量 (有料券ﾍﾞｰｽ） | F4: 製作数 | G4: 単価 | H4: 売上げ数量 (有料券ﾍﾞｰｽ） | I4: 今回製作 | K4: 数量 （1食当り） | L4: 原価 （1食当り） | M4: 価格設定 | N4: 予算額 | O4: 適用
B5: 有料つまみ
B6: 焼きそば | C6: 45 | D6: 100 | E6: 58 | F6: 60 | G6: 100 | H6: =+I6 -> 60 | I6: 60 | K6: =+'購入計画詳細(2019年度)'!U13 -> 159.656 | L6: =+'購入計画詳細(2019年度)'!I13 -> 83 | M6: 100 | N6: =I6*L6 -> 4980 | O6: 材料、薬味、ﾄｯﾋﾟﾝｸを含む
B7: フランクフルトソーセージ（米久） | C7: 65 | D7: 100 | E7: 97 | F7: 100 | G7: 100 | H7: =+I7 -> 100 | I7: 100 | K7: =+'購入計画詳細(2019年度)'!U18 -> 74.074074 | L7: =+'購入計画詳細(2019年度)'!I18 -> 137 | M7: 100 | N7: =I7*L7 -> 13700 | O7: 前回使用、材料、薬味を含む
B8: フランクフルトソーセージ（オーケー） | I8: 100 | K8: =+'購入計画詳細(2019年度)'!U19 -> 60 | L8: =+'購入計画詳細(2019年度)'!I19 -> 92 | M8: 100 | N8: =I8*L8 -> 9200 | O8: 今回予定、材料、薬味を含む
B9: 餃子 | H9: =+I9 -> 50 | I9: 50 | J9: =I9*K9 -> 200 | K9: 4 | L9: =+'購入計画詳細(2019年度)'!I25 -> 89 | M9: 100 | N9: =I9*L9 -> 4450 | O9: 材料、薬味を含む
B10: つくね | E10: 36 | F10: 72 | G10: 100
B11: 唐揚げ | C11: 59 | D11: 100
B12: 煮卵 | C12: 25 | D12: 100
B14: 無料ソフトドリンク | I14: 1 | M14: =+'購入計画詳細(2019年度)'!F38 -> 6676.68 | N14: =I14*M14 -> 6676.68 | O14: 氷を含む
B16: 無料つまみ
B17: おにぎり | C17: ●
B18: 焼きおにぎり | C18: ● | E18: ● | H18: ● | I18: 150 | L18: ='購入計画詳細(2019年度)'!F39/'購入計画詳細(2019年度)'!G39 -> 30 | M18: =I18*L18 -> 4500 | N18: =I18*L18 -> 4500 | O18: 5島分
B19: お新香 | C19: ● | E19: ● | H19: ● | I19: 1 | N19: =+'購入計画詳細(2019年度)'!F44 -> 1341.36 | O19: 5島分
B20: 乾き物 | C20: ● | E20: ● | H20: ● | I20: 1 | N20: =+'購入計画詳細(2019年度)'!F48 -> 4197.76 | O20: 5島分
B22: 容器他 | I22: 1 | N22: =+'購入計画詳細(2019年度)'!F60 -> 7030
B23: 生ビール | I23: 1 | N23: =+'購入計画詳細(2019年度)'!F61 -> 47350 | O23: =+'購入計画詳細(2019年度)'!I61 -> 47350
B24: クオカード | I24: 1 | N24: =+'購入計画詳細(2019年度)'!F63 -> 4900 | O24: =+'購入計画詳細(2019年度)'!I63 -> 4900
B25: プロパン | I25: 1 | N25: =+'購入計画詳細(2019年度)'!F64 -> 1944 | O25: =+'購入計画詳細(2019年度)'!I64 -> 1944
B26: 印刷代 | I26: 1 | N26: =+'購入計画詳細(2019年度)'!F65 -> 4610 | O26: =+'購入計画詳細(2019年度)'!I65 -> 4610
B27: スイカ | I27: 3 | L27: =+'購入計画詳細(2019年度)'!D66 -> 1706.3333 | N27: =I27*L27 -> 5119 | O27: =+'購入計画詳細(2019年度)'!I66 -> 5119
B28: スーパーボール（ポイ含む） | I28: 1 | N28: =+'購入計画詳細(2019年度)'!F67 -> 3000
B29: ビンゴゲーム、景品 | I29: 1 | N29: =+'購入計画詳細(2019年度)'!F68 -> 8000
B30: 蚊取り線香 | I30: 1 | N30: =+'購入計画詳細(2019年度)'!F69 -> 2000 | O30: 5
B32: 使用金額 | C32: 132070 | E32: =+'2018年使用金額'!C11 -> 109814
B33: 予定使用金額(フランクフルト(米久)） | N33: =N6+N7+N9+M14+M18+N19+N20+N22+N23+N24+N25+N26+N27+N28+N29+N30 -> 123798.8 | O33: =ROUNDUP(N33,-3) -> 124000 | Q33: ROUNDUP(P30,-4)
B34: 予定使用金額(フランクフルト(ｵｰｹｰ)） | N34: =N6+N8+N9+N14+N18+N19+N20+N22+N23+N24+N25+N26+N27+N28+N29+N30 -> 119298.8 | O34: =ROUNDUP(N34,-3) -> 120000
B35: 年度予算 | C35: 130000 | E35: 140000 | H35: 150000

Sheet 購入計画詳細(2019年度)
A4: バームの夏祭り(2019)購入計画詳細 | R4: =R20/L20 -> 383.33333
A5: item | B5: 材料名 | C5: 詳細 | D5: 単価 | E5: 購入数量 | F5: 購入金額 | G5: 提供個数 | H5: 購買金額 | I5: 適用 | K5: 容量1 | L5: 容量2 | M5: 容量3 | N5: 梱包個数 | O5: 提供個数 | P5: 提供個数 | Q5: 提供個数 | R5: 購入数量 | S5: 購入数量 | T5: 購入数量 | U5: 販売数量 | V5: 購入金額 | W5: 購買金額 | X5: 前回購入 製作 | Y5: 前回購入 数量 | Z5: 前回購入 個数 | AA5: 前回購入 重量 | AB5: 前回購入 重量 | AC5: 保存方法
A6: 焼きそば | B6: 焼きそば | C6: マルちゃん 焼そば 3食 | D6: =125*1.08 -> 135 | E6: =ROUNDUP(S6,0) -> 12 | F6: =D6*E6 -> 1620 | G6: =+'購入計画(2019年度)'!I6 -> 60 | I6: まるちゃん | K6: =(150*3) -> 450 | L6: 450 | M6: =(10*3) -> 30 | N6: 3 | O6: =+AB6 -> 90 | Q6: =+'購入計画(2019年度)'!I6 -> 60 | R6: =$Q$6*O6 -> 5400 | S6: =R6/K6 -> 12 | V6: =D6*S6 -> 1620 | X6: 60 | Y6: 12 | Z6: =Y6*N6 -> 36 | AA6: =Y6*K6 -> 5400 | AB6: =AA6/$X$6 -> 90 | AC6: 冷蔵 | AD6: まるちゃん
B7: キャベツ | C7: 大玉、935ｇ、可食部795g | D7: =96*1.08 -> 103.68 | E7: =ROUNDUP(S7,0) -> 4 | F7: =D7*E7 -> 414.72 | K7: 795 | O7: =+AB7 -> 53 | R7: =$Q$6*O7 -> 3180 | S7: =R7/K7 -> 4 | V7: =D7*S7 -> 414.72 | Y7: 4 | AA7: =Y7*K7 -> 3180 | AB7: =AA7/$X$6 -> 53
B8: 揚げ玉 | C8: オタフク | D8: 780 | E8: =ROUNDUP(S8,0) -> 1 | F8: =D8*E8 -> 780 | K8: 1000 | L8: 45 | O8: 16.656 | R8: =$Q$6*O8 -> 999.36 | S8: =R8/K8 -> 0.99936 | V8: =D8*S8 -> 779.5008 | AA8: 1000 | AB8: =AA8/$X$6 -> 16.666667
B9: 紅ショウガ | C9: 国産生姜使用 紅しょうが千切り | D9: 200 | E9: =ROUNDUP(S9,0) -> 3 | F9: =D9*E9 -> 600 | K9: 45 | L9: 45 | O9: 2 | R9: =$Q$6*O9 -> 120 | S9: =R9/K9 -> 2.6666667 | V9: =D9*S9 -> 533.33333 | AB9: =AA9/$X$6 -> 0
B10: 青のり | C10: あおさ（粉）２０ｇ入り/青のり/青さ粉 愛知県三河産 | D10: 400 | E10: =ROUNDUP(S10,0) -> 2 | F10: =D10*E10 -> 800 | K10: 20 | L10: 8 | O10: 0.5 | R10: =$Q$6*O10 -> 30 | S10: =R10/K10 -> 1.5 | V10: =D10*S10 -> 600 | AB10: =AA10/$X$6 -> 0
B11: 粗びき胡椒 | C11: S&B キッチン あらびきコショー 48g | D11: 350 | E11: =ROUNDUP(S11,0) -> 1 | F11: =D11*E11 -> 350 | K11: 30 | L11: 30 | O11: 0.5 | R11: =$Q$6*O11 -> 30 | S11: =R11/K11 -> 1 | V11: =D11*S11 -> 350 | AB11: =AA11/$X$6 -> 0
B12: 炒め油 | C12: 日清オイリオ 炒め油 200g | D12: 200 | E12: =ROUNDUP(S12,0) -> 2 | F12: =D12*E12 -> 400 | K12: 200 | L12: =K12 -> 200 | O12: 5 | R12: =$Q$6*O12 -> 300 | S12: =R12/K12 -> 1.5 | V12: =D12*S12 -> 300
B13: 材料費合計 | F13: =SUM(F6:F12) -> 4964.72 | H13: =F13/$G$6 -> 82.745333 | I13: =ROUNDUP(H13,0) -> 83 | U13: =SUM(O6:O8) -> 159.656 | V13: =SUM(V6:V12) -> 4597.5541 | W13: =V13/$Q$6 -> 76.625902
A14: フランクフルト | B14: フランクフルト（米久） | C14: ジャイアントBooノンスモーク２kg（74g/1本、27本入り） | D14: 3175 | E14: =ROUNDUP(S14,0) -> 4 | F14: =D14*E14 -> 12700 | G14: =+'購入計画(2019年度)'!I7 -> 100 | H14: 送料を含む | I14: 米久 | K14: 2000 | L14: =K14/N14 -> 74.074074 | N14: 27 | O14: =K14/N14 -> 74.074074 | Q14: =+'購入計画(2019年度)'!I7 -> 100 | R14: =$Q$14*O14 -> 7407.4074 | S14: =R14/K14 -> 3.7037037 | T14: =S14/N14 -> 0.13717421 | V14: =D14*S14 -> 11759.259 | X14: ='購入計画(2019年度)'!I7 -> 100 | AC14: 冷凍 | AD14: 米久 | AE14: 凍ったまま袋から取り出し、フライパンで沸騰したお湯で約12分加熱し、お湯を捨てて焼いてください。
B15: フランクフルト（オーケー） | C15: 無塩ポークフランク（480ｇ、60ｇ/1本、８本いり）棒付き | D15: =582*1.08 -> 628.56 | E15: =ROUNDUP(S15,0) -> 13 | F15: =D15*E15 -> 8171.28 | G15: =+'購入計画(2019年度)'!I8 -> 100 | I15: オーケー(西葛西) | K15: 480 | L15: =K15/N15 -> 60 | N15: 8 | O15: =K15/N15 -> 60 | Q15: =+'購入計画(2019年度)'!I7 -> 100 | R15: =$Q$14*O15 -> 6000 | S15: =R15/K15 -> 12.5 | V15: =D15*S15 -> 7857
B16: マスタード | C16: ハインツ イエローマスタード 逆さボトル(226g) | D16: 270 | E16: =ROUNDUP(S16,0) -> 2 | F16: =D16*E16 -> 540 | K16: 268 | N16: 1 | O16: =K16/N16 -> 268 | R16: =K16/N16 -> 268 | S16: 2 | V16: =D16*S16 -> 540
B17: ケチャップ | C17: ハインツ トマトケチャップ 逆さボトル(460g) | D17: 220 | E17: =ROUNDUP(S17,0) -> 2 | F17: =D17*E17 -> 440 | K17: 460 | N17: 1 | O17: =K17/N17 -> 460 | R17: =K17/N17 -> 460 | S17: 2 | V17: =D17*S17 -> 440
B18: 材料費合計 | C18: フランクフルト（米久）使用 | F18: =+F14+F16+F17 -> 13680 | H18: =F18/$G$14 -> 136.8 | I18: =ROUNDUP(H18,0) -> 137 | U18: =SUM(O14) -> 74.074074 | V18: =V14+V16+V17 -> 12739.259 | W18: =V18/$Q$14 -> 127.39259
C19: フランクフルト（オーケー）使用 | F19: =+F15+F16+F17 -> 9151.28 | H19: =F19/$G$15 -> 91.5128 | I19: =ROUNDUP(H19,0) -> 92 | U19: =SUM(O15) -> 60 | V19: =V15+V16+V17 -> 8837 | W19: =V19/$Q$15 -> 88.37
A20: 餃子 | B20: 餃子 | C20: [冷凍] 味の素 ギョーザ 12個 | D20: =173*1.08 -> 186.84 | E20: =ROUNDUP(S20,0) -> 17 | F20: =D20*E20 -> 3176.28 | G20: =+'購入計画(2019年度)'!I9 -> 50 | I20: 味の素 | K20: 276 | L20: 12 | M20: =K20/L20 -> 23 | N20: 12 | O20: =P20*M20 -> 92 | P20: =+'購入計画(2019年度)'!K9 -> 4 | Q20: =+'購入計画(2019年度)'!I9 -> 50 | R20: =$Q$20*O20 -> 4600 | S20: =R20/K20 -> 16.666667 | V20: =D20*S20 -> 3114 | X20: =+'購入計画(2019年度)'!I9 -> 50 | AC20: 冷凍 | AD20: 味の素
B21: ラー油 | C21: S&B ラー油(唐辛子入り) 31g | D21: 108 | E21: =ROUNDUP(S21,0) -> 2 | F21: =D21*E21 -> 216 | G21: =P20*Q20 -> 200 | N21: 1 | S21: 2 | T21: =S21/N21 -> 2 | V21: =D21*T21 -> 216
B22: 醬油 | C22: いつでも新鮮 しぼりたて生しょうゆ(酸化を防ぐ密封容器)(450mL) | D22: 300 | E22: =ROUNDUP(S22,0) -> 2 | F22: =D22*E22 -> 600 | N22: 1 | S22: 2 | T22: =S22/N22 -> 2 | V22: =D22*T22 -> 600
B23: テーブル酢 | C23: ミツカン カンタン酢(500mL) | D23: 300 | E23: =ROUNDUP(S23,0) -> 1 | F23: =D23*E23 -> 300 | N23: 1 | S23: 1 | T23: =S23/N23 -> 1 | V23: =D23*T23 -> 300
B24: 胡椒 | C24: S＆B コショー 17g | D24: 108 | E24: =ROUNDUP(S24,0) -> 1 | F24: =D24*E24 -> 108 | N24: 1 | S24: 1 | T24: =S24/N24 -> 1 | V24: =D24*T24 -> 108
B25: 材料費合計 | F25: =SUM(F20:F24) -> 4400.28 | H25: =F25/$G$20 -> 88.0056 | I25: =ROUNDUP(H25,0) -> 89 | U25: =SUM(O20) -> 92 | V25: =SUM(V20:V24) -> 4338 | W25: =V25/$Q$20 -> 86.76
B26: 有料つまみ合計 ① | C26: フランクフルト（米久）使用 | F26: =F13+F18+F25 -> 23045
C27: フランクフルト（オーケー）使用 | F27: =F13+F19+F25 -> 18516.28
A28: ソフトドリンク | B28: ライトコーラ | C28: コカ・コーラ ゼロ 1.5L PET | D28: 170 | E28: 3 | F28: =D28*E28 -> 510 | G28: =SUM(E28:E35) -> 23 | K28: 2 | N28: 3 | O28: =+AB28 -> 0 | Q28: =+E28 -> 3 | S28: =+Q28 -> 3 | V28: =D28*S28 -> 510
B29: なっちゃん | C29: サントリー なっちゃん! オレンジ 1.5L | D29: 250 | E29: 3 | F29: =D29*E29 -> 750 | K29: 1.5 | N29: 3 | Q29: =+E29 -> 3 | S29: =+Q29 -> 3 | V29: =D29*S29 -> 750
B30: オランジーナ | C30: オランジーナ 1.2L | D30: 230 | E30: 3 | F30: =D30*E30 -> 690 | K30: 1.2 | N30: 3 | Q30: =+E30 -> 3 | S30: =+Q30 -> 3 | V30: =D30*S30 -> 690
B31: お茶 | C31: 綾鷹 緑茶 2L | D31: =129*1.08 -> 139.32 | E31: 3 | F31: =D31*E31 -> 417.96 | K31: 2 | N31: 3 | Q31: =+E31 -> 3 | S31: =+Q31 -> 3 | V31: =D31*S31 -> 417.96
B32: サイダー | C32: アサヒ 三ツ矢サイダー 1500ml | D32: =128*1.08 -> 138.24 | E32: 3 | F32: =D32*E32 -> 414.72 | K32: 2 | N32: 3 | Q32: =+E32 -> 3 | S32: =+Q32 -> 3 | V32: =D32*S32 -> 414.72
B33: カルピス | C33: カルピスウォーター 1.5L | D33: 200 | E33: 3 | F33: =D33*E33 -> 600 | K33: 2 | N33: 3 | Q33: =+E33 -> 3 | S33: =+Q33 -> 3 | V33: =D33*S33 -> 600
B34: CCレモン | C34: サントリー CCレモン PET 1.5L | D34: 300 | E34: 3 | F34: =D34*E34 -> 900 | K34: 2 | N34: 3 | Q34: =+E34 -> 3 | S34: =+Q34 -> 3 | V34: =D34*S34 -> 900
B35: 午後の紅茶ミルクティー | C35: キリン 午後の紅茶 ミルクティー 1.5L | D35: 200 | E35: 2 | F35: =D35*E35 -> 400 | K35: 2 | N35: 2 | Q35: =+E35 -> 2 | S35: =+Q35 -> 2 | V35: =D35*S35 -> 400
B36: コップ | C36: h:90mm×D71mmΦ、225ml、透明 | D36: 700 | E36: =ROUNDUP(S36,0) -> 2 | F36: =D36*E36 -> 1400 | I36: 130 | K36: 100 | N36: =SUM(N28:N35) -> 23 | R36: 150 | S36: =R36/K36 -> 1.5 | V36: =D36*S36 -> 1050
B37: 氷 | C37: 2kg | D37: 198 | E37: 3 | F37: =D37*E37 -> 594 | K37: 2 | N37: 2 | O37: 6 | R37: 6 | S37: =R37/K37 -> 3 | V37: =D37*S37 -> 594
B38: 飲み物合計 ② | F38: =SUM(F28:F37) -> 6676.68 | V38: =SUM(V28:V37) -> 6326.68
A39: 無料つまみ | B39: 焼きおにぎり | C39: ニチレイ 焼おにぎり 10個入 480g | D39: 300 | E39: =G39/I39 -> 15 | F39: =D39*E39 -> 4500 | G39: =+'購入計画(2019年度)'!I18 -> 150 | I39: 10 | K39: 480 | L39: =K39/N39 -> 48 | N39: 10 | O39: =K39/N39 -> 48 | Q39: =+'購入計画(2019年度)'!I18 -> 150 | R39: =Q39*O39 -> 7200 | S39: =R39/K39 -> 15
B40: 材料費合計 | F40: =SUM(F39) -> 4500
B41: お新香（大根） | C41: たけし君 ゆず味（450ｇ） | D41: =365*1.08 -> 394.2 | E41: 2 | F41: =D41*E41 -> 788.4 | I41: 5
B42: お新香（野沢菜） | D42: =168*1.08 -> 181.44 | E42: 2 | F42: =D42*E42 -> 362.88 | I42: 5 | AE42: 十二代杉ヱ門の漬物 野沢菜本漬け 300g
B43: お新香（キュウリ） | C43: 東海漬物 きゅうりのキューちゃん 100g | D43: =88*1.08 -> 95.04 | E43: 2 | F43: =D43*E43 -> 190.08 | I43: 5
...

Sheet 2018年準備
B2: 【事前準備】
B3: （１）飲み物調達
B4: ①生ビール
B5: ・ビールサーバ、サーバ用氷、ビール20ℓ×3+10ℓ、コップ100個を酒屋（田野商店）に予約済み。
B6: 22日11:30に搬入予定。（関根役員）
B7: ②ソフトドリンク
B8: ・ライトコーラ、なっちゃん、オランジーナ、お茶を多めに。
B9: サイダー、カルピス、CCレモン、午後の紅茶ミルクティーは少なめ。
B10: →取り混ぜ2ℓペットボトル×25本を準備。（加藤役員）
B11: ・保冷用の容器の準備。（自治会備品）
B12: ・アイスコーヒー（1.9ℓ×8本・東京葬祭提供）、透明カップ（30個）、氷、ガムシロップ、ミルク（加藤役員）
B13: ③氷
... B58: ・スーパーボールすくい運営概要（スタッフ用資料）（関根役員）

Sheet 2018年振り返り
B2: ５．バームの夏まつり振り返り
B3: （１）参加実績
B4: 世帯48、計130名
B5: 居住者106名（成人63、未成年33、未就学児10）
B6: 居住者外24名（成人11、未成年12、未就学児1）
B7: 【参考：前回2017年実績】
B8: 世帯52、計145名
B9: 居住者106名（成人70、未成年25、未就学児11）
B10: 居住者外39名（成人20、未成年14、未就学児5）
B11: 居住者の参加は昨年同様であったが、居住者外の参加者が減少（-15人）。
B12: 20180722 出席表夏まつり.xlsx
B13: (29.19 KiB) ダウンロード数: 0 回
... B133: (22.51 KiB) ダウンロード数: 1 回

Sheet 2018年使用金額
A1: バームの夏祭り(2018)
C2: 使用金額
A3: ③夏まつり(7/22) | B3: クオカード | C3: 4900
A4: ③夏まつり(7/22) | B4: プロパン | C4: 1944
A5: ③夏まつり(7/22) | B5: 生ビール | C5: 47350
A6: ③夏まつり(7/22) | B6: 印刷代 | C6: 4610
A7: ③夏まつり(7/22) | B7: スイカ | C7: 5119
A8: ③夏まつり(7/22) | B8: 雑貨 | C8: 432
A9: ③夏まつり(7/22) | B9: 食材・景品 | C9: 27307
A10: ③夏まつり(7/22) | B10: 食材 | C10: 18152 | D10: =SUM(C9:C10) -> 45459
C11: =SUM(C3:C10) -> 109814

Sheet 餃子の焼き方
B2: 絶対焦がさない餃子の焼き方
B3: 1. 火を付けずにフライパンに油を大さじ3いれる
B4: 2. 火をつけないまま、冷凍餃子を油をつけながら並べる
B5: 3. 火をつけて強火で熱する
B6: 4. すぐに水かお湯を、10~15個に対して１５０ｃｃくらいを回しいれる
B7: 5. すぐにふたをして、強火で4分加熱する
B8: 6. 4分経ったらふたを開け、水が泡立ってきたら中火にして2分加熱する
B9: 7. 2分くらいすると水がなくなってくるので、餃子の周りに油を適量回しいれる
B10: 8. 水が残り少なくなったら弱火にし、1分加熱する
B11: 9. 1分経ったら火を止め、お皿に移す

Sheet 屋台焼きそば
B2: 焼きそばはべちゃっとしがち。
B3: 屋台の味を家で再現する方法を
B4: 「神保町やきそばみかさ」の店主の中田さんに
B5: 教えてもらいました。
B6: 『材料
B7: 市販の焼きそば（添付ソース） 1食分
B8: 削り粉（魚粉） 大さじ1/2
B9: 豚肉（バラ薄切り） 2～3枚程度
B10: キャベツ 70g目安
B11: もやし 70g目安
B12: ラード 小さじ1
B13: 『作り方』
... B27: 水はつかわない

Sheet フランクフルトソーセージの調理
B3: まずは基本の焼き方、茹で方を教えてもらいました。美味しく食べるには、どちらも『ゆっくりと温めていく』ことがポイントです！
B4: 「ソーセージそのものの味や香りを楽しみたいなら、茹でて、パリッとした食感と肉汁を堪能したいなら焼いて食べるのがいいですね」
B5: 【茹でる】80℃くらいの湯でゆっくりと
B6: 80℃くらいの湯でゆっくり茹でる。親指程度の太さのウインナーソーセージ（直径20㎜未満の羊腸を使用）なら4～5分、フランクフルトソーセージ（直径36㎜未満の豚腸を使用）なら8分くらいが茹で時間の目安。
B7: 「こうするとソーセージの中までしっかり温まり、パリッと張りがあり、プリッと美味しい食感に仕上がります。高い温度でグラグラ茹でると、ソーセージが破裂して、せっかくのジューシーな肉汁が茹で汁に流れ出て台無しになりますよ！」
B8: 【焼く】フライパンの上で転がしながらじっくりと
B9: テフロン加工のフライパンに薄く油を敷き、ソーセージを並べ、弱火で焼く。フライパンをゆすって、ソーセージを転がして全体をじっくりと加熱する。羊腸のソーセージなら4～5分、豚腸のソーセージなら8分くらいが焼き時間の目安。
B10: 味付けはせずシンプルにそのまま食べるのもいいですが、ソーセージの美味しさをさらに楽しむレシピを2つ教えてもらいました。
B11: ソーセージにはカレーディップ！ これがドイツの定番
B12: ひと品目は、マヨネーズ、カレー粉、ケチャップ、生クリームを混ぜるだけのカレーディップ。
B13: 「『ソーセージにはケチャップとマスタード！』という固定概念は日本だけ。ドイツでは、カレーディップが圧倒的に人気なんです。ピリッと辛くて、まったりとしたコクが後引く味。いつものソーセージが抜群に美味しくなります」
B14: 詳しい材料（作りやすい分量）
... B35: 目黒のフレンチレストラン「ラ・ブーシェリー・デュ・ブッパ」のデリ専門店。自家製ソーセージやサラミ、生ハムなどのシャルキュトリー（肉加工品）と熟成ジビエ肉をテイクアウトできます。
