Workbook
Name Excel_BuiltIn__FilterDatabase: '参考収支明細(2017)'!$A$1:$G$35
Name Excel_BuiltIn__FilterDatabase: '収支明細(入力)'!$A$1:$G$37

Sheet 収支明細(入力)
A1: 収支明細 (2018/4/1～2019/3/31) | G1: 網掛け（*）・・・銀行口座への振込・引き落とし | H1: 残高（参考）
A2: 領収書月日 | B2: 収支 | C2: 科目 | D2: 補助科目 | E2: 摘要 | F2: 収入 | G2: 支出 | H2: 191175
A3: 43209 | B3: 支出 | C3: 04.活動費③募金支出 | D3: ①緑の募金 | E3: ①緑の募金 | G3: 1000 | H3: =H2+F3-G3 -> 190175
A4: 43210 | B4: 支出 | C4: 04.活動費①行事支出 | D4: ①端午の節句(5/5) | E4: 端午の節句（飾り） | G4: 1400 | H4: =H3+F4-G4 -> 188775
A5: 43210 | B5: 支出 | C5: 04.活動費①行事支出 | D5: ①端午の節句(5/5) | E5: 端午の節句（飾り） | G5: 14478 | H5: =H4+F5-G5 -> 174297
A6: 43214 | B6: 収入 | C6: 04.その他収入①アルミ缶回収費 | D6: アルミ缶回収費 | E6: 2018年04月 80kg×@50 | F6: 4000 | H6: =H5+F6-G6 -> 178297
A7: 43216 | B7: 支出 | C7: 08.渉外費 | D7: ①わんわんウォーキング分担金 | E7: ①わんわんウォーキング分担金 | G7: 5000 | H7: =H6+F7-G7 -> 173297
A8: 43225 | B8: 支出 | C8: 08.渉外費 | D8: ●弔慰金 | E8: 弔慰金（108坂本寿美子様/4月24日逝去） | G8: 10000 | H8: =H7+F8-G8 -> 163297
A9: 43226 | B9: 支出 | C9: 08.渉外費 | D9: ②宇喜田・小島地区自治連懇親会（5/6） | E9: ②宇喜田・小島地区自治連懇親会（2*3000） | G9: 6000 | H9: =H8+F9-G9 -> 157297
A10: 43232 | B10: 支出 | C10: 08.渉外費 | D10: ●弔慰金 | E10: 弔慰金（809田中襄而様/5月4日逝去） | G10: 10000 | H10: =H9+F10-G10 -> 147297
A11: 43221 | B11: 支出 | C11: 04.活動費①行事支出 | D11: ①端午の節句(5/5) | E11: 端午の節句（飾り） | G11: 9740 | H11: =H10+F11-G11 -> 137557
A12: 43240 | B12: 支出 | C12: 08.渉外費 | D12: ③自治会会議費懇親会費(5/20) | E12: ③自治会会議費懇親会費(5/20) | G12: 37908 | H12: =H11+F12-G12 -> 99649
A13: 43230 | B13: 支出 | C13: 04.活動費③募金支出 | D13: ②赤十字社活動募金 | E13: ②赤十字社活動募金 | G13: 2000 | H13: =H12+F13-G13 -> 97649
A14: 43248 | B14: 収入 | C14: 06.募金 | D14: ①歳末たすけあい運動募金 | E14: バザー後売上 | F14: 6370 | H14: =H13+F14-G14 -> 104019
A15: 43253 | B15: 支出 | C15: 02.自治連年会費 | D15: 宇喜田小島地区自治連協議会分担金 | E15: 宇喜田小島地区自治連協議会分担金 | G15: 23000 | H15: =H14+F15-G15 -> 81019
A16: 43256 | B16: 支出 | C16: 04.活動費①行事支出 | D16: ②七夕(7/7) | E16: 七夕飾り（笹） | G16: 9764 | H16: =H15+F16-G16 -> 71255
A17: 43262 | B17: 支出 | C17: 04.活動費①行事支出 | D17: ②七夕(7/7) | E17: 七夕飾り（笹） | G17: 10018 | H17: =H16+F17-G17 -> 61237
A18: 43276 | B18: 支出 | C18: 04.活動費①行事支出 | D18: ②七夕(7/7) | E18: 七夕飾り（ひまわり） | G18: 3000 | H18: =H17+F18-G18 -> 58237
A19: 43285 | B19: 支出 | C19: 04.活動費①行事支出 | D19: ③夏まつり(7/22) | E19: クオカード | G19: 4900 | H19: =H18+F19-G19 -> 53337
A20: 43259 | B20: 支出 | C20: 04.活動費①行事支出 | D20: ②七夕(7/7) | E20: 七夕飾り | G20: 2291 | H20: =H19+F20-G20 -> 51046
A21: 43274 | B21: 支出 | C21: 04.活動費①行事支出 | D21: ②七夕(7/7) | E21: 七夕飾り | G21: 1140 | H21: =H20+F21-G21 -> 49906
A22: 43249 | B22: 収入 | C22: 04.その他収入①アルミ缶回収費 | D22: アルミ缶回収費 | E22: 2018年05月 100kg×@50 | F22: 5000 | H22: =H21+F22-G22 -> 54906
A23: 43277 | B23: 収入 | C23: 04.その他収入①アルミ缶回収費 | D23: アルミ缶回収費 | E23: 2018年06月 80kg×@50 | F23: 4000 | H23: =H22+F23-G23 -> 58906
A24: 43277 | B24: 支出 | C24: 04.活動費①行事支出 | D24: ②七夕(7/7) | E24: 七夕飾り | G24: 927 | H24: =H23+F24-G24 -> 57979
A25: 43288 | B25: 支出 | C25: 04.活動費③募金支出 | D25: ③青い羽根募金 | E25: ③青い羽根募金 | G25: 1000 | H25: =H24+F25-G25 -> 56979
A26: 43302 | B26: 支出 | C26: 04.活動費①行事支出 | D26: ③夏まつり(7/22) | E26: スイカ | G26: 5119 | H26: =H25+F26-G26 -> 51860
A27: 43302 | B27: 支出 | C27: 04.活動費①行事支出 | D27: ③夏まつり(7/22) | E27: 雑貨 | G27: 432 | H27: =H26+F27-G27 -> 51428
A28: 43303 | B28: 支出 | C28: 04.活動費①行事支出 | D28: ③夏まつり(7/22) | E28: 食材・景品 | G28: 27307 | H28: =H27+F28-G28 -> 24121
A29: 43303 | B29: 支出 | C29: 04.活動費①行事支出 | D29: ③夏まつり(7/22) | E29: 食材 | G29: 18152 | H29: =H28+F29-G29+200000 -> 205969 | I29: 20万円引き出し
A30: 43304 | B30: 収入 | C30: 03.行事収入 | D30: ①夏まつり(7/22) | E30: ①夏まつり(7/22) | F30: 34800 | H30: =H29+F30-G30 -> 240769
A31: 43303 | B31: 収入 | C31: 06.募金 | D31: ②日赤平成30年7月豪雨災害義援金 | E31: ②日赤平成30年7月豪雨災害義援金 | F31: 16932 | H31: =H30+F31-G31 -> 257701
A32: 43304 | B32: 支出 | C32: 04.活動費③募金支出 | D32: ④日赤平成30年7月豪雨災害義援金 | E32: ④日赤平成30年7月豪雨災害義援金 | G32: 16932 | H32: =H31+F32-G32 -> 240769
A33: 43309 | B33: 支出 | C33: 08.渉外費 | D33: ●弔慰金 | E33: 弔慰金（425髙田眞智子様/7月16日逝去） | G33: 10000 | H33: =H32+F33-G33 -> 230769
A34: 43309 | B34: 支出 | C34: 04.活動費①行事支出 | D34: ③夏まつり(7/22) | E34: プロパン | G34: 1944 | H34: =H33+F34-G34 -> 228825
A35: 43309 | B35: 支出 | C35: 04.活動費①行事支出 | D35: ③夏まつり(7/22) | E35: 生ビール | G35: 47350 | H35: =H34+F35-G35 -> 181475
A36: 43309 | B36: 支出 | C36: 04.活動費①行事支出 | D36: ③夏まつり(7/22) | E36: 印刷代 | G36: 4610 | H36: =H35+F36-G36 -> 176865
A37: 43309 | B37: 支出 | C37: 06.備品費 | D37: 備品 | E37: ホットプレート | G37: 11030 | H37: =H36+F37-G37 -> 165835
A38: 43314 | B38: 支出 | C38: 04.活動費①行事支出 | D38: ④運動会(9/23) | E38: 運動会分担金 | G38: 7800 | H38: =H37+F38-G38 -> 158035
A39: 43312 | B39: 収入 | C39: 04.その他収入①アルミ缶回収費 | D39: アルミ缶回収費 | E39: 2018年07月 110kg×@50 | F39: 5500 | H39: =H38+F39-G39 -> 163535
A40: 43340 | B40: 収入 | C40: 04.その他収入①アルミ缶回収費 | D40: アルミ缶回収費 | E40: 2018年08月 80kg×@50 | F40: 4000 | H40: =H39+F40-G40 -> 167535
...

Sheet 収支表示（集計）
A1: 第１５期自治会収支報告 (2018/4/1～2019/3/31)
D3: データ
A4: 収支 | B4: 科目 | C4: 補助科目 | D4: 収入の部 | E4: 支出の部
A5: 収入 | B5: 03.行事収入 | C5: ①夏まつり(7/22) | D5: 34800
C6: ②いも煮会(10/21) | D6: 12200
B7: 03.行事収入 集計 | D7: 47000
B8: 04.その他収入①アルミ缶回収費 | C8: アルミ缶回収費 | D8: 38000
B9: 04.その他収入①アルミ缶回収費 集計 | D9: 38000
B10: 06.募金 | C10: ①歳末たすけあい運動募金 | D10: 6370
C11: ②日赤平成30年7月豪雨災害義援金 | D11: 16932
C12: ③日赤募金（いも煮会） | D12: 1641
C13: ④歳末たすけあい募金（もちつき） | D13: 2249
B14: 06.募金 集計 | D14: 27192
A15: 支出 | B15: 02.自治連年会費 | C15: 宇喜田小島地区自治連協議会分担金 | E15: 23000
B16: 02.自治連年会費 集計 | E16: 23000
B17: 04.活動費①行事支出 | C17: ①端午の節句(5/5) | E17: 25618
C18: ②七夕(7/7) | E18: 27140
C19: ③夏まつり(7/22) | E19: 109814
C20: ④運動会(9/23) | E20: 49262
C21: ⑤いも煮会(10/21) | E21: 73878
C22: ⑥もちつき(11/11) | E22: 104126
C23: ⑦クリスマス電飾 | E23: 53797
C24: ⑧正月飾り | E24: 48060
C25: ⑨新年顔合わせ会 | E25: 2500
C26: 健康サポート | E26: 546
B27: 04.活動費①行事支出 集計 | E27: 494741
B28: 04.活動費③募金支出 | C28: ①緑の募金 | E28: 1000
C29: ②赤十字社活動募金 | E29: 2000
C30: ③青い羽根募金 | E30: 1000
C31: ④日赤平成30年7月豪雨災害義援金 | E31: 16932
C32: ⑤赤い羽根募金 | E32: 3000
C33: ⑥日赤募金（いも煮会） | E33: 1641
C34: ⑦歳末たすけあい募金 | E34: 22177
B35: 04.活動費③募金支出 集計 | E35: 47750
B36: 04.活動費④諸経費 | C36: 切手代・印刷代 | E36: 900
B37: 04.活動費④諸経費 集計 | E37: 900
B38: 06.備品費 | C38: 備品 | E38: 23560
B39: 06.備品費 集計 | E39: 23560
B40: 08.渉外費 | C40: ●弔慰金 | E40: 40000
C41: ①わんわんウォーキング分担金 | E41: 5000
...

Sheet 今期決算書
A1: 第１４期（平成２９年度）決算書
A3: ２０１７年４月１日～２０１８年３月３１日
H4: (単位：円）
A5: 収 入 の 部 | E5: 支 出 の 部
A6: 科 目 | B6: 予算額 | C6: 実績額 | D6: 備 考 | E6: 科 目 | F6: 予算額 | G6: 実績額 | H6: 備 考
A7: コミュニティ費（旧自治会費） | B7: 500000 | C7: =GETPIVOTDATA("収入の部",'収支表示（集計）'!$A$3,"収支","収入","科目","01.コミュニティ費") -> #REF! | D7: 注１ | E7: 行政分担金 | F7: 27250 | G7: =GETPIVOTDATA("支出の部",'収支表示（集計）'!$A$3,"収支","支出","科目","01.行政分担金") -> #REF!
A8: 区・文書等配布委託金 | B8: 130800 | C8: =GETPIVOTDATA("収入の部",'収支表示（集計）'!$A$3,"収支","収入","科目","02.区・文書等配布委託金") -> #REF! | E8: 自治連年会費 | F8: 23000 | G8: =GETPIVOTDATA("支出の部",'収支表示（集計）'!$A$3,"収支","支出","科目","02.自治連年会費") -> 23000
A9: 行事収入 | B9: 40000 | C9: =GETPIVOTDATA("収入の部",'収支表示（集計）'!$A$3,"収支","収入","科目","03.行事収入") -> 47000 | E9: 防犯協会加入分担金 | F9: 12630 | G9: =GETPIVOTDATA("支出の部",'収支表示（集計）'!$A$3,"収支","支出","科目","03.防犯協会加入分担金") -> #REF!
A10: その他収入 | B10: 93250 | C10: =SUM(C11:C12) -> #REF! | E10: 活動費 | F10: 716110 | G10: =SUM(G11:G14) -> #REF!
A11: ①アルミ缶回収費 | B11: 93000 | C11: =GETPIVOTDATA("収入の部",'収支表示（集計）'!$A$3,"収支","収入","科目","04.その他収入①アルミ缶回収費") -> 38000 | E11: ①行事支出 | F11: 645000 | G11: =GETPIVOTDATA("支出の部",'収支表示（集計）'!$A$3,"収支","支出","科目","04.活動費①行事支出") -> 494741
A12: ②その他 | B12: 250 | C12: =GETPIVOTDATA("収入の部",'収支表示（集計）'!$A$3,"収支","収入","科目","04.その他収入②その他") -> #REF! | D12: 注２ | E12: ②自治会保険料 | F12: 34110 | G12: =GETPIVOTDATA("支出の部",'収支表示（集計）'!$A$3,"収支","支出","科目","04.活動費②自治会保険料") -> #REF!
A13: 寄付金 | B13: 150000 | C13: =GETPIVOTDATA("収入の部",'収支表示（集計）'!$A$3,"収支","収入","科目","05.寄付金") -> #REF! | D13: 注３ | E13: ③募金支出 | F13: 27000 | G13: =GETPIVOTDATA("支出の部",'収支表示（集計）'!$A$3,"収支","支出","科目","04.活動費③募金支出") -> 47750
A14: 歳末たすけあい運動募金 | B14: 15000 | C14: =GETPIVOTDATA("収入の部",'収支表示（集計）'!$A$3,"収支","収入","科目","06.歳末たすけあい運動募金") -> #REF! | D14: 注４ | E14: ④諸経費 | F14: 10000 | G14: =GETPIVOTDATA("支出の部",'収支表示（集計）'!$A$3,"収支","支出","科目","04.活動費④諸経費") -> 900
E15: 印刷関係費 | F15: 50000 | G15: =GETPIVOTDATA("支出の部",'収支表示（集計）'!$A$3,"収支","支出","科目","05.印刷関係費") -> #REF! | H15: 注５
E16: 備品費 | F16: 50000 | G16: =GETPIVOTDATA("支出の部",'収支表示（集計）'!$A$3,"収支","支出","科目","06.備品費") -> 23560 | H16: 注６
E17: 消耗品費 | F17: 10000 | G17: =GETPIVOTDATA("支出の部",'収支表示（集計）'!$A$3,"収支","支出","科目","07.消耗品費") -> #REF!
E18: 渉外費 | F18: 170000 | G18: =GETPIVOTDATA("支出の部",'収支表示（集計）'!$A$3,"収支","支出","科目","08.渉外費") -> 125843
E19: 銀行手数料 | F19: 3000 | G19: =GETPIVOTDATA("支出の部",'収支表示（集計）'!$A$3,"収支","支出","科目","09.銀行手数料") -> #REF!
E20: 予備費 | F20: 30000 | G20: 0
A21: 収入合計 | B21: 929050 | C21: =SUM(C7:C10)+C13+C14+C15 -> #REF! | E21: 支出合計 | F21: 1091990 | G21: =SUM(G7:G10)+SUM(G15:G20) -> #REF!
A22: 前期繰越金 | B22: 1367620 | C22: =B22 -> 1367620 | E22: 次期繰越金 | F22: 1204680 | G22: =G23-G21 -> #REF!
A23: 収入・繰越金合計 | B23: 2296670 | C23: =SUM(C21:C22) -> #REF! | E23: 支出・繰越金合計 | F23: 2296670 | G23: =C23 -> #REF!
A25: ２０１９年 月 日
A27: 第１５期収支決算を上記の通り上程し、ご報告いたします。
B28: バームハイツ西葛西自治会
B29: 会 長 | C29: 関 根 弘 二
A30: =A25 -> ２０１９年 月 日
A32: 第１５期決算書を監査した結果、適正なることを認めます。
B33: 監 事 | C33: 星 野 武 夫

Sheet 次期予算案
A1: 第１５期（平成３０年度）予算案
A2: ２０１８年４月１日～２０１９年３月３１日 | H2: (単位：円）
A3: 収 入 の 部 | E3: 支 出 の 部
A4: 科 目 | B4: 前期実績 | C4: 予算額 | D4: 備 考 | E4: 科 目 | F4: 前期実績 | G4: 予算額 | H4: 備 考
A5: コミュニティ費（旧自治会費） | B5: =今期決算書!C7 -> #REF! | C5: 500000 | D5: 注1 | E5: 行政分担金 | F5: =今期決算書!G7 -> #REF! | G5: 27250
A6: 区・文書等配布委託金 | B6: =今期決算書!C8 -> #REF! | C6: 130800 | E6: 自治連年会費 | F6: =今期決算書!G8 -> 23000 | G6: 23000
A7: 行事収入 | B7: =今期決算書!C9 -> 47000 | C7: 40000 | E7: 防犯協会加入分担金 | F7: =今期決算書!G9 -> #REF! | G7: 12630
A8: その他収入 | B8: =今期決算書!C10 -> #REF! | C8: =C9+C10 -> 93250 | E8: 活動費 | F8: =今期決算書!G10 -> #REF! | G8: =SUM(G9:G12) -> 716110
A9: ①集団回収費 | B9: =今期決算書!C11 -> 38000 | C9: 93000 | D9: 注2 | E9: ①行事支出 | F9: =今期決算書!G11 -> 494741 | G9: ='【行事予算案（入力）】）'!J14 -> 645000 | H9: 注4
A10: ②その他 | B10: =今期決算書!C12 -> #REF! | C10: 250 | D10: 利息等 | E10: ②自治会保険料 | F10: =今期決算書!G12 -> #REF! | G10: 34110
A11: 寄付金 | B11: =今期決算書!C13 -> #REF! | C11: 150000 | D11: 注3 | E11: ③募金支出 | F11: =今期決算書!G13 -> 47750 | G11: 27000 | H11: 注5
A12: 歳末たすけあい運動募金 | B12: =今期決算書!C14 -> #REF! | C12: 15000 | E12: ④諸経費 | F12: =今期決算書!G14 -> 900 | G12: 10000
E13: 印刷関係費 | F13: =今期決算書!G15 -> #REF! | G13: 50000
E14: 備品費 | F14: =今期決算書!G16 -> 23560 | G14: 50000
E15: 消耗品費 | F15: =今期決算書!G17 -> #REF! | G15: 10000
E16: 渉外費 | F16: =今期決算書!G18 -> 125843 | G16: 170000 | H16: 注6
E17: 銀行手数料 | F17: =今期決算書!G19 -> #REF! | G17: 3000
E18: 予備費 | F18: =今期決算書!G20 -> 0 | G18: 30000
A19: 収入合計 | B19: =今期決算書!C21 -> #REF! | C19: =SUM(C5:C8)+C11+C12+C13 -> 929050 | E19: 支出合計 | F19: =今期決算書!G21 -> #REF! | G19: =SUM(G5:G8)+SUM(G13:G18) -> 1091990
A20: 前期繰越金 | B20: =今期決算書!C22 -> 1367620 | C20: =今期決算書!G22 -> #REF! | E20: 次期繰越金 | F20: =今期決算書!G22 -> #REF! | G20: =G21-G19 -> #REF!
A21: 収入・繰越金合計 | B21: =今期決算書!C23 -> #REF! | C21: =SUM(C19:C20) -> #REF! | E21: 支出・繰越金合計 | F21: =今期決算書!G23 -> #REF! | G21: =C21 -> #REF!

Sheet 【行事予算案（入力）】）
J1: 今期予算 | L1: 前期実績 | N1: 前期予算
A2: 注1 | B2: コミュニティ費 | C2: 2017年6月～2018年5月* | D2: 500000 | E2: 円 | G2: 注4 | H2: 行事支出 | I2: 端午の節句飾り | J2: 30000 | K2: 円（ | L2: 0 | M2: 円/ | N2: 0 | O2: 円）
C3: ※年１回精算 | I3: 七夕飾り | J3: 25000 | K3: 円（ | L3: 20497 | M3: 円/ | N3: 20000 | O3: 円）
A4: 注2 | B4: 集団回収費 | C4: @4,000×12か月＝ | D4: 48000 | E4: 円 | I4: 夏まつり | J4: 140000 | K4: 円（ | L4: 132070 | M4: 円/ | N4: 130000 | O4: 円）
B5: 区の報奨金 | D5: 45000 | E5: 円 | I5: 運動会 | J5: 50000 | K5: 円（ | L5: 45194 | M5: 円/ | N5: 60000 | O5: 円）
C6: 計 | D6: =SUM(D4:D5) -> 93000 | E6: 円 | I6: いも煮会 | J6: 80000 | K6: 円（ | L6: 0 | M6: 円/ | N6: 80000 | O6: 円）
A7: 注3 | B7: 寄付金 | C7: @30,000×5回＝ | D7: 150000 | E7: 円 | I7: もちつき | J7: 110000 | K7: 円（ | L7: 53265 | M7: 円/ | N7: 105000 | O7: 円）
A8: 注5 | B8: 募金支出 | C8: 歳末たすけあい運動募金 | D8: 20000 | E8: 円 | I8: クリスマス飾り | J8: 70000 | K8: 円（ | L8: 67795 | M8: 円/ | N8: 70000 | O8: 円）
C9: （前期バザー+2018年募金） | I9: 正月飾り | J9: 70000 | K9: 円（ | L9: 65994 | M9: 円/ | N9: 50000 | O9: 円）
C10: その他募金 | D10: 7000 | E10: 円 | I10: 鏡開き | J10: 15000 | K10: 円（ | L10: 8892 | M10: 円/ | N10: 20000 | O10: 円）
C11: 計 | D11: =SUM(D8:D10) -> 27000 | E11: 円 | I11: 新年会 | J11: 40000 | K11: 円（ | L11: 37249 | M11: 円/ | N11: 45000 | O11: 円）
A12: 注6 | B12: 渉外費 | C12: 自治連会合費他 | D12: 130000 | E12: 円 | I12: ひな人形飾り | J12: 10000 | K12: 円（ | L12: 13109 | M12: 円/ | N12: 0 | O12: 円）
C13: 研修会・その他 | D13: 40000 | E13: 円 | I13: バザー | J13: 5000 | K13: 円（ | L13: 1730 | M13: 円/ | N13: 10000 | O13: 円）
C14: 計 | D14: =SUM(D12:D13) -> 170000 | E14: 円 | I14: 合計 | J14: =SUM(J2:J13) -> 645000 | K14: 円（ | L14: =SUM(L2:L13) -> 445795 | M14: 円/ | N14: 590000 | O14: 円）

Sheet 今期貸借対照表
A1: 第１５期（平成３０年度）貸借対照表
A3: ２０１９年３月３１日現在
F4: (単位：円）
A5: 資 産 の 部 | D5: 負債及び繰越金の部
A6: 科 目 | C6: 金額 | D6: 科 目 | F6: 金額
A7: 現預金 | B7: 普通預金 | C7: 1176445 | D7: 未払金 | E7: 未払金 | F7: 0
B8: 現金 | C8: 191175 | D8: 前受金 | E8: 前受金 | F8: 0
B9: 小計 | C9: =SUM(C7:C8) -> 1367620 | D9: 預り金 | E9: 預り金・借受金 | F9: 0
D10: 振替金 | E10: 未振替金 | F10: 0
A11: 未収入金 | B11: 未収入金 | C11: 0
B12: 仮払金 | C12: 0
D16: 次期繰越金 | F16: =今期決算書!G22 -> #REF!
A17: 合 計 | C17: =C9+C11+C12 -> 1367620 | D17: 合 計 | F17: =SUM(F7:F16) -> #REF!

Sheet 参考収支明細(2017)
A1: 収支明細 (2017/4/1～2018/3/31) | G1: 網掛け（*）・・・銀行口座への振込・引き落とし | H1: 残高（参考）
A2: 領収書月日 | B2: 収支 | C2: 科目 | D2: 補助科目 | E2: 摘要 | F2: 収入 | G2: 支出 | H2: 164636
A3: 42838 | B3: 支出 | C3: 04.活動費③募金支出 | D3: ①緑の募金 | E3: ①緑の募金 | G3: 1000 | H3: =H2+F3-G3 -> 163636
A4: 42851 | B4: 収入 | C4: 04.その他収入①アルミ缶回収費 | D4: アルミ缶回収費 | E4: 2017年04月 80kg×@50 | F4: 4000 | H4: =H3+F4-G4 -> 167636
A5: 42849 | B5: 支出 | C5: 08.渉外費 | D5: ①わんわんウォーキング分担金（4/24） | E5: ①わんわんウォーキング分担金（4/24） | G5: 5000 | H5: =H4+F5-G5 -> 162636
A6: 42862 | B6: 支出 | C6: 08.渉外費 | D6: ②宇喜田・小島地区自治連懇親会（5/8） | E6: ②宇喜田・小島地区自治連懇親会（4*3000） | G6: 12000 | H6: =H5+F6-G6 -> 150636
A7: 42866 | B7: 支出 | C7: 04.活動費③募金支出 | D7: ②赤十字社活動募金 | E7: ②赤十字社活動募金 | G7: 2000 | H7: =H6+F7-G7 -> 148636
A8: 42876 | B8: 支出 | C8: 08.渉外費 | D8: ③自治会会議費懇親会費(5/21) | E8: ③自治会会議費懇親会費(5/21) | G8: 25211 | H8: =H7+F8-G8 -> 123425
A9: 42886 | B9: 収入 | C9: 04.その他収入①アルミ缶回収費 | D9: アルミ缶回収費 | E9: 2017年05月 100kg×@50 | F9: 5000 | H9: =H8+F9-G9 -> 128425
A10: 42889 | B10: 支出 | C10: 08.渉外費 | D10: ●弔慰金 | E10: 弔慰金（1013伊藤正典様/5月30日逝去） | G10: 10000 | H10: =H9+F10-G10 -> 118425
A11: 42908 | B11: 支出 | C11: 04.活動費①行事支出 | D11: ①七夕(7/7) | E11: 七夕飾り（土のう） | G11: 515 | H11: =H10+F11-G11 -> 117910
A12: 42908 | B12: 支出 | C12: 04.活動費①行事支出 | D12: ②夏まつり(7/16) | E12: サインクリップ | G12: 392 | H12: =H11+F12-G12 -> 117518
A13: 42908 | B13: 支出 | C13: 06.備品費 | D13: 備品 | E13: のぼり、吊り下げひも、他 | G13: 4300 | H13: =H12+F13-G13 -> 113218
A14: 42908 | B14: 支出 | C14: 04.活動費①行事支出 | D14: ①七夕(7/7) | E14: 七夕飾り（笹） | G14: 14040 | H14: =H13+F14-G14 -> 99178
A15: 42908 | B15: 支出 | C15: 02.自治連年会費 | D15: 宇喜田小島地区自治連協議会分担金 | E15: 宇喜田小島地区自治連協議会分担金 | G15: 23000 | H15: =H14+F15-G15 -> 76178
A16: 42917 | B16: 収入 | C16: 04.その他収入①アルミ缶回収費 | D16: アルミ缶回収費 | E16: 2017年06月 80kg×@50 | F16: 4000 | H16: =H15+F16-G16 -> 80178
A17: 42917 | B17: 支出 | C17: 04.活動費①行事支出 | D17: ①七夕(7/7) | E17: 七夕飾り（印刷代） | G17: 260 | H17: =H16+F17-G17 -> 79918
A18: 42917 | B18: 支出 | C18: 04.活動費④諸経費 | D18: 切手代・印刷代 | E18: 印刷代 | G18: 110 | H18: =H17+F18-G18 -> 79808
A19: 42917 | B19: 支出 | C19: 04.活動費①行事支出 | D19: ①七夕(7/7) | E19: 七夕飾り（飾り） | G19: 3598 | H19: =H18+F19-G19 -> 76210
A20: 42917 | B20: 支出 | C20: 04.活動費①行事支出 | D20: ①七夕(7/7) | E20: 七夕飾り（飾り） | G20: 2084 | H20: =H19+F20-G20 -> 74126
A21: 42931 | B21: 支出 | C21: 07.消耗品費 | D21: 消耗品 | E21: のし袋 | G21: 108 | H21: =H20+F21-G21 -> 74018
A22: 42929 | B22: 支出 | C22: 04.活動費①行事支出 | D22: ②夏まつり(7/16) | E22: ビンゴカード | G22: 216 | H22: =H21+F22-G22+200000 -> 273802 | I22: ※２０万円預金引き出し
A23: 42930 | B23: 支出 | C23: 04.活動費①行事支出 | D23: ②夏まつり(7/16) | E23: ＬＰガス2kg代金 | G23: 1944 | H23: =H22+F23-G23 -> 271858
A24: 42922 | B24: 支出 | C24: 06.備品費 | D24: 備品 | E24: 干支人形 | G24: 12960 | H24: =H23+F24-G24 -> 258898
A25: 42932 | B25: 支出 | C25: 04.活動費①行事支出 | D25: ②夏まつり(7/16) | E25: スイカ３個、コーヒー | G25: 9549 | H25: =H24+F25-G25 -> 249349
A26: 42932 | B26: 支出 | C26: 04.活動費①行事支出 | D26: ②夏まつり(7/16) | E26: ドリンク、景品 | G26: 25479 | H26: =H25+F26-G26 -> 223870
A27: 42932 | B27: 支出 | C27: 04.活動費①行事支出 | D27: ②夏まつり(7/16) | E27: 食品 | G27: 41092 | H27: =H26+F27-G27 -> 182778
A28: 42928 | B28: 支出 | C28: 04.活動費①行事支出 | D28: ②夏まつり(7/16) | E28: 交通費 | G28: 340 | H28: =H27+F28-G28 -> 182438
A29: 42928 | B29: 支出 | C29: 04.活動費①行事支出 | D29: ②夏まつり(7/16) | E29: 交通費 | G29: 340 | H29: =H28+F29-G29 -> 182098
A30: 42928 | B30: 支出 | C30: 04.活動費①行事支出 | D30: ②夏まつり(7/16) | E30: 交通費 | G30: 340 | H30: =H29+F30-G30 -> 181758
A31: 42932 | B31: 支出 | C31: 04.活動費①行事支出 | D31: ②夏まつり(7/16) | E31: 食材 | G31: 1132 | H31: =H30+F31-G31 -> 180626
A32: 42932 | B32: 支出 | C32: 04.活動費①行事支出 | D32: ②夏まつり(7/16) | E32: 印刷代、備品 | G32: 3436 | H32: =H31+F32-G32 -> 177190
A33: 42932 | B33: 収入 | C33: 03.行事収入 | D33: ①夏まつり(7/16) | E33: 総売上（参加費＋売上） | F33: 40200 | H33: =H32+F33-G33 -> 217390
A34: 42938 | B34: 支出 | C34: 08.渉外費 | D34: ●弔慰金 | E34: 弔慰金（105中村アキ様/7月4日逝去） | G34: 10000 | H34: =H33+F34-G34 -> 207390
A35: 42947 | B35: 支出 | C35: 08.渉外費 | D35: ●弔慰金 | E35: 弔慰金（802片岡利子様/3月13日逝去） | G35: 10000 | H35: =H34+F35-G35 -> 197390
A36: 42952 | B36: 収入 | C36: 04.その他収入①アルミ缶回収費 | D36: アルミ缶回収費 | E36: 2017年07月 80kg×@50 | F36: 4000 | H36: =H35+F36-G36 -> 201390
A37: 42952 | B37: 支出 | C37: 04.活動費③募金支出 | D37: ③青い羽根募金 | E37: ③青い羽根募金 | G37: 1000 | H37: =H36+F37-G37 -> 200390
A38: 42952 | B38: 支出 | C38: 04.活動費①行事支出 | D38: ③運動会(9/24) | E38: 運動会自治会分担金 | G38: 7800 | H38: =H37+F38-G38 -> 192590
A39: 42952 | B39: 支出 | C39: 04.活動費①行事支出 | D39: ②夏まつり(7/16) | E39: ビール | G39: 47810 | H39: =H38+F39-G39 -> 144780
A40: 42952 | B40: 支出 | C40: 08.渉外費 | D40: ●弔慰金 | E40: 弔慰金（1105鹿毛様奥様/7月18日逝去） | G40: 10000 | H40: =H39+F40-G40 -> 134780
...
