Workbook

Sheet 予算計画集計
B2: 2018年度行事予算計画
B4: 行事名 | C4: 2016年度実績 | D4: 2017年度計画 | E4: 2017年度実績 | F4: 2018年度計画 | G4: 2018年度計画内容
B5: 七夕飾り | D5: =+'行事予算計画(七夕飾り)2018年度'!C19 -> 20000 | E5: =+'行事予算計画(七夕飾り)2018年度'!C20 -> 20497 | F5: =+'行事予算計画(七夕飾り)2018年度'!C21 -> 25000 | G5: 笹を模造品に替える
B6: バームの夏祭り | D6: =+'行事予算計画(夏祭り)2018年度'!C19 -> 130000 | E6: =+'行事予算計画(夏祭り)2018年度'!C20 -> 132070 | F6: =+'行事予算計画(夏祭り)2018年度'!C21 -> 140000 | G6: 前期と同様企画、飲物物価高
B7: 運動会 | D7: =+'行事予算計画(運動会)2018年度'!C19 -> 60000 | E7: =+'行事予算計画(運動会)2018年度'!C20 -> 45194 | F7: =+'行事予算計画(運動会)2018年度'!C21 -> 52000 | G7: 2017年度と同様企画
B8: バームのいも煮会 | C8: =+'行事予算計画(芋煮)2018年度'!C20 -> 75824 | D8: =+'行事予算計画(芋煮)2018年度'!C19 -> 80000 | E8: 中止 | F8: =+'行事予算計画(芋煮)2018年度'!C21 -> 80000 | G8: 2017年度中止、2018年度再開
B9: 餅つき | D9: =+'行事予算計画(餅つき)2018年度'!C19 -> 105000 | E9: =+'行事予算計画(餅つき)2018年度'!C20 -> 53265 | F9: =+'行事予算計画(餅つき)2018年度'!C21 -> 105000 | G9: 2017年度業者不備にて料金値引き、前期と同様企画
B10: クリスマス飾り･年末電飾 | D10: =+'行事予算計画(クリスマス飾り･年末電飾）2018年度'!C19 -> 70000 | E10: =+'行事予算計画(クリスマス飾り･年末電飾）2018年度'!C20 -> 66795 | F10: =+'行事予算計画(クリスマス飾り･年末電飾）2018年度'!C21 -> 70000 | G10: 中庭の電飾整備
B11: 正月飾り | D11: =+'行事予算計画(正月飾り）2018年度'!C19 -> 50000 | E11: =+'行事予算計画(正月飾り）2018年度'!C20 -> 65994 | F11: =+'行事予算計画(正月飾り）2018年度'!C21 -> 65000 | G11: 2017年度と同様企画
B12: 鏡開き | D12: =+'行事予算計画(鏡開き）2018年度'!C19 -> 20000 | E12: =+'行事予算計画(鏡開き）2018年度'!C20 -> 8892 | F12: =+'行事予算計画(鏡開き）2018年度'!C21 -> 17000 | G12: 2017年度と同様企画
B13: 新年顔合わせ会 | D13: =+'行事予算計画(新年顔合わせ会）2018年度'!C19 -> 45000 | E13: =+'行事予算計画(新年顔合わせ会）2018年度'!C20 -> 37249 | F13: =+'行事予算計画(新年顔合わせ会）2018年度'!C21 -> 45000 | G13: 2017年度と同様企画
B14: ひな人形飾り | D14: =+'行事予算計画(ひな人形飾り）2018年度'!C19 -> 0 | E14: =+'行事予算計画(ひな人形飾り）2018年度'!C20 -> 13109 | F14: =+'行事予算計画(ひな人形飾り）2018年度'!C21 -> 8000 | G14: 2017年度ミニ飾りを購入、2018年度オブジェ、オーナメントを補強
B15: バームのバザー | D15: =+'行事予算計画(バザー）2018年度'!C19 -> 0 | E15: =+'行事予算計画(バザー）2018年度'!C20 -> 1730 | F15: =+'行事予算計画(バザー）2018年度'!C21 -> 4000 | G15: 2017年度と同様企画
B16: 五月人形飾り | D16: =+'行事予算計画(五月人形飾り）2018年度 )'!C19 -> 0 | E16: =+'行事予算計画(五月人形飾り）2018年度 )'!C20 -> 0 | F16: =+'行事予算計画(五月人形飾り）2018年度 )'!C21 -> 20000 | G16: 新企画、ひな人形飾り同様ミニ飾りを購入
B17: 合計 | F17: =SUM(F5:F16) -> 631000

Sheet 行事予算計画(七夕飾り)2018年度
A1: 2018年度(15期)行事予算計画：七夕飾り | E1: Priority Items：笹を模造品にかえて飾る
A2: 番号 | B2: 購入品名 | C2: 使用箇所 | D2: 使用用途 | E2: 仕様（色等） | F2: 数量 | G2: 単価 | H2: 金額 | I2: 適要 | K2: 2017年度実績
A3: 1 | B3: 笹 | C3: フロント管理室前 | D3: 七夕飾り | E3: 笹 竹 七夕 飾り、 本体サイズ等 高さ180cm 底パイプ部:内径15.3mm、ポリエステル繊維・ポリエチレン、分割式 | F3: 1 | G3: 12000 | H3: =F3*G3 -> 12000 | I3: =+L4 -> 14040 | K3: 七夕飾り（土のう） | L3: 515 | M3: 笹 | N3: https://item.rakuten.co.jp/saiga/276320/ | O3: WEB検索 商品番号：276320
A4: =A3+1 -> 2 | B4: 笹スタンド | C4: フロント管理室前 | D4: 七夕飾り | E4: 【本体サイズ等】ベース:30cm角 差し込み棒:直径19.5mm・22mmφ、【素材】スチール | F4: 1 | G4: 6000 | H4: =F4*G4 -> 6000 | K4: 七夕飾り（笹） | L4: 14040 | M4: 笹スタンド | N4: https://item.rakuten.co.jp/saiga/276418/ | O4: WEB検索 商品番号：276418
A5: =A4+1 -> 3 | B5: 飾り物 | C5: フロント管理室前 | D5: 七夕飾り | E5: 吊し飾り（オーナメント、短冊、ぼんぼり、吹き流し等） | F5: 1 | G5: 6000 | H5: =F5*G5 -> 6000 | I5: =L3+L6+L7 -> 6197 | K5: 七夕飾り（印刷代） | L5: 260
A6: =A5+1 -> 4 | B6: 印刷代 | D6: 広報用 | F6: 1 | G6: 300 | H6: =F6*G6 -> 300 | I6: =+L5 -> 260 | K6: 七夕飾り（飾り） | L6: 3598
A7: =A6+1 -> 5 | K7: 七夕飾り（飾り） | L7: 2084
A8: =A7+1 -> 6
A9: =A8+1 -> 7
A10: =A9+1 -> 8
A11: =A10+1 -> 9
A12: =A11+1 -> 10
A13: =A12+1 -> 11
A14: =A13+1 -> 12
A15: =A14+1 -> 13
A16: =A15+1 -> 14
A17: =A16+1 -> 15
F18: 合計 | G18: =SUM(H3:H17) -> 24300
B19: 2017年度計画 | C19: 20000
B20: 2017年度実績 | C20: 20497
B21: 2018年度計画 | C21: =ROUNDUP(G18,-3) -> 25000 | L21: =SUM(L3:L20) -> 20497 | O21: =SUM(O3:O20) -> 0
I22: =SUM(I3:I21) -> 20497

Sheet 行事予算計画(夏祭り)2018年度
A1: 2018年度(15期)行事予算計画：バームの夏祭り | E1: Priority Items：前期と同様企画
A2: 番号 | B2: 購入品名 | C2: 使用箇所 | D2: 使用用途 | E2: 仕様（色等） | F2: 数量 | G2: 単価 | H2: 金額 | I2: 適要 | K2: 2017年度実績
A3: 1 | B3: 模擬店食品･食材 | D3: 夏祭り | E3: 唐揚げ、焼きそば、フランクフルト、 | F3: 1 | G3: 45000 | H3: =F3*G3 -> 45000 | I3: =+L8+L12 -> 42224 | K3: サインクリップ | L3: 392
A4: =A3+1 -> 2 | B4: 模擬店飲物 | E4: 生ビール | F4: 1 | G4: 50000 | H4: =F4*G4 -> 50000 | I4: =+L15 -> 47810 | K4: ビンゴカード | L4: 216
A5: =A4+1 -> 3 | B5: 模擬店飲物 | E5: ソフトドリンク | F5: 1 | G5: 16000 | H5: =F5*G5 -> 16000 | I5: =+L7-10000 -> 15479 | K5: ＬＰガス2kg代金 | L5: 1944
A6: =A5+1 -> 4 | B6: 模擬店飲物 | E6: コーヒー | F6: 1 | G6: 1000 | H6: =F6*G6 -> 1000 | I6: =+L6-I9 -> 849 | K6: スイカ３個、コーヒー | L6: 9549
A7: =A6+1 -> 5 | B7: 模擬店雑品 | E7: LPガスレンタル | F7: 1 | G7: 2000 | H7: =F7*G7 -> 2000 | I7: =+L5 -> 1944 | K7: ドリンク、景品 | L7: 25479
A8: =A7+1 -> 6 | B8: イベント景品 | E8: ビンゴ | F8: 1 | G8: 10000 | H8: =F8*G8 -> 10000 | I8: =+L7-I5 -> 10000 | K8: 食品 | L8: 41092
A9: =A8+1 -> 7 | B9: イベント用品 | E9: スイカ（３個） | F9: 1 | G9: 9000 | H9: =F9*G9 -> 9000 | I9: =2900*3 -> 8700 | K9: 交通費 | L9: 340
A10: =A9+1 -> 8 | B10: 雑品 | E10: ビンゴカード、スーパーボール、サイン類 | F10: 1 | G10: 3000 | H10: =F10*G10 -> 3000 | I10: =(L13-I12)+L3+L4 -> 824 | K10: 交通費 | L10: 340
A11: =A10+1 -> 9 | B11: 交通費 | F11: 1 | G11: 1000 | H11: =F11*G11 -> 1000 | I11: =+L9+L10+L11 -> 1020 | K11: 交通費 | L11: 340
A12: =A11+1 -> 10 | B12: 印刷代 | E12: イベントサイン | F12: 1 | G12: 2500 | H12: =F12*G12 -> 2500 | I12: 3220 | K12: 食材 | L12: 1132
A13: =A12+1 -> 11 | K13: 印刷代、備品 | L13: 3436
A14: =A13+1 -> 12 | K14: 総売上（参加費＋売上）
A15: =A14+1 -> 13 | K15: ビール | L15: 47810
A16: =A15+1 -> 14
A17: =A16+1 -> 15
F18: 合計 | G18: =SUM(H3:H17) -> 139500
B19: 2017年度計画 | C19: =+'2017年度イベント予算集計'!E2 -> 130000
B20: 2017年度実績 | C20: =+'2017年度イベント予算集計'!E3 -> 132070
B21: 2018年度計画 | C21: =ROUNDUP(G18,-3) -> 140000 | L21: =SUM(L3:L20) -> 132070
I22: =SUM(I3:I21) -> 132070

Sheet 行事予算計画(運動会)2018年度
A1: 2018年度(15期)行事予算計画：運動会 | E1: Priority Items：前期と同様企画
A2: 番号 | B2: 購入品名 | C2: 使用箇所 | D2: 使用用途 | E2: 仕様（色等） | F2: 数量 | G2: 単価 | H2: 金額 | I2: 適要 | K2: 2017年度実績
A3: 1 | B3: 運動会自治会分担金 | F3: 1 | G3: =+I3 -> 7800 | H3: =F3*G3 -> 7800 | I3: =+L3 -> 7800 | K3: 運動会自治会分担金 | L3: 7800
A4: =A3+1 -> 2 | B4: 飲物代 | E4: くだもの他 | F4: 1 | G4: 10000 | H4: =F4*G4 -> 10000 | I4: =+L4+L7+L5 -> 9079 | K4: 飲物 | L4: 1058
A5: =A4+1 -> 3 | B5: 弁当代 | F5: 1 | G5: 20000 | H5: =F5*G5 -> 20000 | I5: =+L6 -> 15880 | K5: くだもの | L5: 853
A6: =A5+1 -> 4 | B6: 車レンタル | F6: 1 | G6: 13000 | H6: =F6*G6 -> 13000 | I6: =+L8 -> 12435 | K6: 弁当 | L6: 15880
A7: =A6+1 -> 5 | B7: 印刷代 | F7: 1 | G7: 500 | H7: =F7*G7 -> 500 | K7: 飲物 | L7: 7168
A8: =A7+1 -> 6 | K8: 車レンタル | L8: 12435
A9: =A8+1 -> 7
A10: =A9+1 -> 8
A11: =A10+1 -> 9
A12: =A11+1 -> 10
A13: =A12+1 -> 11
A14: =A13+1 -> 12
A15: =A14+1 -> 13
A16: =A15+1 -> 14
A17: =A16+1 -> 15
F18: 合計 | G18: =SUM(H3:H17) -> 51300
B19: 2017年度計画 | C19: 60000
B20: 2017年度実績 | C20: 45194
B21: 2018年度計画 | C21: =ROUNDUP(G18,-3) -> 52000 | L21: =SUM(L3:L20) -> 45194
I22: =SUM(I3:I21) -> 45194

Sheet 行事予算計画(芋煮)2018年度
A1: 2018年度(15期)行事予算計画：バームのいも煮会 | E1: Priority Items：2016年度と同様企画（2017年度中止）
A2: 番号 | B2: 購入品名 | C2: 使用箇所 | D2: 使用用途 | E2: 仕様（色等） | F2: 数量 | G2: 単価 | H2: 金額 | I2: 適要 | K2: 2016年度実績
A3: 1 | B3: 飲物代 | E3: ビール、日本酒、ソフトドリンク | F3: 1 | G3: 16000 | H3: =F3*G3 -> 16000 | I3: =L3+L6+L8 -> 14986 | K3: 飲み物 | L3: 1851
A4: =A3+1 -> 2 | B4: 食材 | E4: いも、牛肉他 | F4: 1 | G4: 60000 | H4: =F4*G4 -> 60000 | I4: =L4+L5 -> 58564 | K4: 食費 | L4: 16401
A5: =A4+1 -> 3 | B5: 模擬店雑品 | E5: LPガスレンタル | F5: 1 | G5: 2000 | H5: =F5*G5 -> 2000 | I5: =+L9 -> 1944 | K5: 食費 | L5: 42163
A6: =A5+1 -> 4 | B6: 交通費 | F6: 1 | G6: 500 | H6: =F6*G6 -> 500 | I6: =+L7 -> 330 | K6: ビールなど | L6: 10273
A7: =A6+1 -> 5 | B7: 印刷代 | E7: イベントサイン | F7: 1 | G7: 1500 | H7: =F7*G7 -> 1500 | K7: 交通費 | L7: 330
A8: =A7+1 -> 6 | K8: 日本酒 | L8: 2862
A9: =A8+1 -> 7 | K9: ガス代金 | L9: 1944
A10: =A9+1 -> 8
A11: =A10+1 -> 9
A12: =A11+1 -> 10
A13: =A12+1 -> 11
A14: =A13+1 -> 12
A15: =A14+1 -> 13
A16: =A15+1 -> 14
A17: =A16+1 -> 15
F18: 合計 | G18: =SUM(H3:H17) -> 80000
B19: 2017年度計画 | C19: 80000
B20: 2016年度実績 | C20: 75824
B21: 2018年度計画 | C21: =ROUNDUP(G18,-3) -> 80000 | L21: =SUM(L3:L20) -> 75824
I22: =SUM(I3:I21) -> 75824

Sheet 行事予算計画(餅つき)2018年度
A1: 2018年度(15期)行事予算計画：餅つき | E1: Priority Items：前期と同様企画
A2: 番号 | B2: 購入品名 | C2: 使用箇所 | D2: 使用用途 | E2: 仕様（色等） | F2: 数量 | G2: 単価 | H2: 金額 | I2: 適要 | K2: 2017年度実績
A3: 1 | B3: 食材、雑貨 | E3: 焼き海苔、紙コップ,皿、ゴミ袋他 | F3: 1 | G3: 3000 | H3: =F3*G3 -> 3000 | I3: =+L3 -> 1865 | K3: 食材、雑貨 | L3: 1865
A4: =A3+1 -> 2 | B4: もちつき業者費用 | F4: 1 | G4: 100000 | H4: =F4*G4 -> 100000 | I4: =+L4 -> 50000 | K4: もちつき業者費用 | L4: 50000
A5: =A4+1 -> 3 | B5: 印刷代 | E5: イベントサイン | F5: 1 | G5: 1500 | H5: =F5*G5 -> 1500 | I5: =+L5 -> 1400 | K5: 印刷代 | L5: 1400
A6: =A5+1 -> 4
A7: =A6+1 -> 5
A8: =A7+1 -> 6
A9: =A8+1 -> 7
A10: =A9+1 -> 8
A11: =A10+1 -> 9
A12: =A11+1 -> 10
A13: =A12+1 -> 11
A14: =A13+1 -> 12
A15: =A14+1 -> 13
A16: =A15+1 -> 14
A17: =A16+1 -> 15
F18: 合計 | G18: =SUM(H3:H17) -> 104500
B19: 2017年度計画 | C19: 105000
B20: 201７年度実績 | C20: 53265
B21: 2018年度計画 | C21: =ROUNDUP(G18,-3) -> 105000 | K21: =SUM(K2:K20) -> 0 | L21: =SUM(L3:L20) -> 53265
I22: =SUM(I3:I21) -> 53265

Sheet 行事予算計画(クリスマス飾り･年末電飾）2018年度
A1: 2018年度(15期)行事予算計画：クリスマス飾り･年末電飾 | E1: Priority Items：中庭の電飾整備
A2: 番号 | B2: 購入品名 | C2: 使用箇所 | D2: 使用用途 | E2: 仕様（色等） | F2: 数量 | G2: 単価 | H2: 金額 | I2: 適要 | K2: 2017年度実績
A3: 1 | B3: オブジェ | C3: フロント・ロビー | D3: 装飾用 | E3: 生花鉢植え(フロント×2鉢・ロビー×２鉢) | F3: 4 | G3: 1100 | H3: =F3*G3 -> 4400 | I3: =+L3 -> 66754 | K3: ⑤クリスマス飾り | L3: 66754
A4: =A3+1 -> 2 | B4: 電飾(チエーンライト） | C4: 中庭通路（樹木） | D4: 装飾用 | E4: ｺﾞｰﾙﾄﾞｸﾞﾗﾃﾞｰｼｮﾝ/LED(ｽﾄﾚｰﾄ 100球/10m･ﾊﾟﾀ-ﾝ8)+ｺﾝﾄﾛｰﾗ、500球延長可 | F4: 4 | G4: 7500 | H4: =F4*G4 -> 30000 | I4: 40m、400球 | K4: 印刷代 | L4: 160
A5: =A4+1 -> 3 | B5: 電飾(チエーンライト） | C5: 中庭（植え込み） | D5: 装飾用 | E5: ﾐｯｸｽ/LED(ﾚｲﾝﾎﾞｰﾈｯﾄ 200球 ﾊﾟﾀ-ﾝ8） | F5: 1 | G5: 16000 | H5: =F5*G5 -> 16000 | K5: 片付け時の飲物 | L5: 881
A6: =A5+1 -> 4 | B6: ウインドポップ | C6: フロント・ロビー | D6: 装飾用 | E6: 樹脂製、糊なし密着、サンタ･靴下･ツリー他 | F6: 1 | G6: 1500 | H6: =F6*G6 -> 1500
A7: =A6+1 -> 5 | B7: ウインドステッカー | C7: フロント・ロビー | D7: 装飾用 | E7: 樹脂製、糊なし密着、サンタ | F7: 1 | G7: 1000 | H7: =F7*G7 -> 1000
A8: =A7+1 -> 6 | B8: オーナメントセット | C8: フロントツリー | D8: 装飾用 | E8: ボール･モール･プレゼント箱･その他吊り物 | F8: 1 | G8: 1500 | H8: =F8*G8 -> 1500
A9: =A8+1 -> 7 | B9: ビニタイ | C9: 電飾設置箇所･ツリー | D9: ツリー･樹木固定用 | E9: 15cm×100本(濃緑） | F9: 4 | G9: 300 | H9: =F9*G9 -> 1200
A10: =A9+1 -> 8 | B10: 防水シート | C10: 収納箱設置箇所 | D10: 収納箱防水処理 | E10: 業務様70L用 硬質 1袋/30枚入り(ﾖｺ800mm×ﾀﾃ900mm t=0.04mmﾎﾜｲﾄ) | F10: 1 | G10: 1200 | H10: =F10*G10 -> 1200
A11: =A10+1 -> 9 | B11: インシュロック(結束バンド) | D11: 固定用 | E11: ﾜｲﾄﾞﾀｲ(5mm×370mm 1袋/50本入り、耐候性、黒色) | F11: 1 | G11: 1000 | H11: =F11*G11 -> 1000
A12: =A11+1 -> 10 | B12: バックルコンテナ(中） | C12: 中庭 | D12: 電源・部品収納用 | E12: 収納用コンテナ(縦280mm×横400mm×高さ250mm) | F12: 2 | G12: 1000 | H12: =F12*G12 -> 2000
A13: =A12+1 -> 11 | B13: 延長コード | C13: 中庭通路（樹木） | D13: 延長用(EC-3） | E13: 防雨型･10ｍ･黒色(EC-3） | F13: 1 | G13: 2000 | H13: =F13*G13 -> 2000
A14: =A13+1 -> 12 | B14: 予備費 | E14: 配線器具、固定部材、土囊 | F14: 1 | G14: 6000 | H14: =F14*G14 -> 6000
A15: =A14+1 -> 13 | B15: 印刷代 | E15: 配線図位置図他 | F15: 1 | G15: 300 | H15: =F15*G15 -> 300 | I15: =+L4 -> 160
A16: =A15+1 -> 14 | B16: 片付け時の飲物 | F16: 1 | G16: 1000 | H16: =F16*G16 -> 1000 | I16: =+L5 -> 881
A17: =A16+1 -> 15
F18: 合計 | G18: =SUM(H3:H17) -> 69100
B19: 2017年度計画 | C19: 70000
B20: 2017年度実績 | C20: 66795
B21: 2018年度計画 | C21: =ROUNDUP(G18,-3) -> 70000 | K21: =SUM(K2:K20) -> 0 | L21: =SUM(L3:L20) -> 67795
I22: =SUM(I3:I21) -> 67795
A23: 2017年度(14期)予算計画：クリスマス飾り
B24: Priority Items：クリスマス･年末電飾整備補強 | I24: 42824.638
A25: 番号 | B25: 購入品名 | C25: 使用箇所 | D25: 使用用途 | E25: 仕様（色等） | F25: 数量 | G25: 単価 | H25: 金額 | I25: 適要
B27: 2017年度(14期)予算計画：クリスマス飾り
C28: Priority Items：クリスマス･年末電飾整備補強

Sheet 行事予算計画(正月飾り）2018年度
A1: 2018年度(15期)行事予算計画：正月飾り | E1: Priority Items：前期と同様企画
A2: 番号 | B2: 購入品名 | C2: 使用箇所 | D2: 使用用途 | E2: 仕様（色等） | F2: 数量 | G2: 単価 | H2: 金額 | I2: 適要 | K2: 2017年度実績
A3: 1 | B3: 鏡餅 | F3: 1 | G3: 6000 | H3: =F3*G3 -> 6000 | I3: =+L3 -> 5918 | K3: ⑥正月飾り | L3: 5918
A4: =A3+1 -> 2 | B4: 門松 | F4: 1 | G4: 50000 | H4: =F4*G4 -> 50000 | I4: 44820 | K4: ⑥正月飾り | L4: 14356
A5: =A4+1 -> 3 | B5: 正月飾り | E5: 葉ボタン寄せ植え | F5: 2 | G5: 1200 | H5: =F5*G5 -> 2400 | I5: =+L4 -> 14356 | K5: 印刷代 | L5: 900
A6: =A5+1 -> 4 | B6: 正月飾り（賀詞） | E6: 巻色上質紙 | F6: 1 | G6: 1000 | H6: =F6*G6 -> 1000 | K6: 門松 | L6: 44820
A7: =A6+1 -> 5 | B7: 正月飾り小物 | C7: フロント前 | D7: 正月飾り | E7: 迎春ピック(猫･正月･丸B) | F7: 1 | G7: 1000 | H7: =F7*G7 -> 1000
A8: =A7+1 -> 6 | B8: 正月飾り予備 | E8: 両面テープ等 | F8: 1 | G8: 3000 | H8: =F8*G8 -> 3000
A9: =A8+1 -> 7 | B9: 印刷代 | F9: 1 | G9: 1000 | H9: =F9*G9 -> 1000 | I9: =+L5 -> 900
A10: =A9+1 -> 8
A11: =A10+1 -> 9
A12: =A11+1 -> 10
A13: =A12+1 -> 11
A14: =A13+1 -> 12
A15: =A14+1 -> 13
A16: =A15+1 -> 14
A17: =A16+1 -> 15
F18: 合計 | G18: =SUM(H3:H17) -> 64400
B19: 2017年度計画 | C19: 50000
B20: 2017年度実績 | C20: 65994
B21: 2018年度計画 | C21: =ROUNDUP(G18,-3) -> 65000 | K21: =SUM(K2:K20) -> 0 | L21: =SUM(L3:L20) -> 65994
I22: =SUM(I3:I21) -> 65994

Sheet 行事予算計画(鏡開き）2018年度
A1: 2018年度(15期)行事予算計画：鏡開き | E1: Priority Items：前期と同様企画
A2: 番号 | B2: 購入品名 | C2: 使用箇所 | D2: 使用用途 | E2: 仕様（色等） | F2: 数量 | G2: 単価 | H2: 金額 | I2: 適要 | K2: 2017年度実績
A3: 1 | B3: 食材 | E3: あんこ | F3: 1 | G3: 7000 | H3: =F3*G3 -> 7000 | I3: =+L3 -> 3144 | K3: あんこ | L3: 3144
A4: =A3+1 -> 2 | B4: 食品 | E4: もち追加、菓子、チョコ（お年玉） | F4: 1 | G4: 6000 | H4: =F4*G4 -> 6000 | I4: =L4+L6 -> 5051 | K4: チョコ(お年玉） | L4: 1028
A5: =A4+1 -> 3 | B5: 雑品 | E5: アルミホイル | F5: 1 | G5: 3000 | H5: =F5*G5 -> 3000 | I5: =+L5 -> 297 | K5: アルミホイル | L5: 297
A6: =A5+1 -> 4 | B6: 印刷代 | F6: 1 | G6: 500 | H6: =F6*G6 -> 500 | I6: =+L7 -> 400 | K6: もち・菓子 | L6: 4023
A7: =A6+1 -> 5 | K7: 印刷代 | L7: 400
A8: =A7+1 -> 6
A9: =A8+1 -> 7
A10: =A9+1 -> 8
A11: =A10+1 -> 9
A12: =A11+1 -> 10
A13: =A12+1 -> 11
A14: =A13+1 -> 12
A15: =A14+1 -> 13
A16: =A15+1 -> 14
A17: =A16+1 -> 15
F18: 合計 | G18: =SUM(H3:H17) -> 16500
B19: 2017年度計画 | C19: 20000
B20: 2017年度実績 | C20: 8892
B21: 2018年度計画 | C21: =ROUNDUP(G18,-3) -> 17000 | K21: =SUM(K2:K20) -> 0 | L21: =SUM(L3:L20) -> 8892
I22: =SUM(I3:I21) -> 8892

Sheet 行事予算計画(新年顔合わせ会）2018年度
A1: 2018年度(15期)行事予算計画：鏡開き | E1: Priority Items：前期と同様企画
A2: 番号 | B2: 購入品名 | C2: 使用箇所 | D2: 使用用途 | E2: 仕様（色等） | F2: 数量 | G2: 単価 | H2: 金額 | I2: 適要 | K2: 2017年度実績
A3: 1 | B3: 食品 | E3: オードブル、スナック菓子、漬け物 | F3: 1 | G3: 22000 | H3: =F3*G3 -> 22000 | I3: =L4+L6 -> 18812 | K3: 日本酒 | L3: 3294
A4: =A3+1 -> 2 | B4: 飲物 | E4: 日本酒、ハイボール、酎ハイ、ソフトドリンク | F4: 1 | G4: 20000 | H4: =F4*G4 -> 20000 | I4: =L3+L5 -> 18248 | K4: オードブル | L4: 15000
A5: =A4+1 -> 3 | B5: 雑品 | E5: 氷他 | F5: 1 | G5: 2000 | H5: =F5*G5 -> 2000 | I5: =+L7 -> 189 | K5: ドリンク | L5: 14954
A6: =A5+1 -> 4 | B6: 印刷代 | F6: 1 | G6: 500 | H6: =F6*G6 -> 500 | I6: 0 | K6: 菓子・白菜・赤かぶ | L6: 3812
A7: =A6+1 -> 5 | K7: 氷2kg | L7: 189
A8: =A7+1 -> 6
A9: =A8+1 -> 7
A10: =A9+1 -> 8
A11: =A10+1 -> 9
A12: =A11+1 -> 10
A13: =A12+1 -> 11
A14: =A13+1 -> 12
A15: =A14+1 -> 13
A16: =A15+1 -> 14
A17: =A16+1 -> 15
F18: 合計 | G18: =SUM(H3:H17) -> 44500
B19: 2017年度計画 | C19: 45000
B20: 2017年度実績 | C20: =+L21 -> 37249
B21: 2018年度計画 | C21: =ROUNDUP(G18,-3) -> 45000 | K21: =SUM(K2:K20) -> 0 | L21: =SUM(L3:L20) -> 37249
I22: =SUM(I3:I21) -> 37249

Sheet 行事予算計画(ひな人形飾り）2018年度
A1: 2018年度(15期)行事予算計画：ひな人形飾り | E1: Priority Items：前期と同様企画
A2: 番号 | B2: 購入品名 | C2: 使用箇所 | D2: 使用用途 | E2: 仕様（色等） | F2: 数量 | G2: 単価 | H2: 金額 | I2: 適要 | K2: 2017年度実績
A3: 1 | B3: オーナメント | E3: ぼんぼり、屏風他 | F3: 1 | G3: 6000 | H3: =F3*G3 -> 6000 | I3: =+L3 -> 12429 | K3: ひな人形他 | L3: 12429
A4: =A3+1 -> 2 | B4: オブジェ | E4: 桃の花 | F4: 1 | G4: 2000 | H4: =F4*G4 -> 2000 | I4: =+L4 -> 680 | K4: 桃の花 | L4: 680
A5: =A4+1 -> 3
A6: =A5+1 -> 4
A7: =A6+1 -> 5
A8: =A7+1 -> 6
A9: =A8+1 -> 7
A10: =A9+1 -> 8
A11: =A10+1 -> 9
A12: =A11+1 -> 10
A13: =A12+1 -> 11
A14: =A13+1 -> 12
A15: =A14+1 -> 13
A16: =A15+1 -> 14
A17: =A16+1 -> 15
F18: 合計 | G18: =SUM(H3:H17) -> 8000
B19: 2017年度計画 | C19: 0
B20: 2017年度実績 | C20: =+L21 -> 13109
B21: 2018年度計画 | C21: =ROUNDUP(G18,-3) -> 8000 | K21: =SUM(K2:K20) -> 0 | L21: =SUM(L3:L20) -> 13109
I22: =SUM(I3:I21) -> 13109

Sheet 行事予算計画(バザー）2018年度
A1: 2018年度(15期)行事予算計画：バザー | E1: Priority Items：前期と同様企画
A2: 番号 | B2: 購入品名 | C2: 使用箇所 | D2: 使用用途 | E2: 仕様（色等） | F2: 数量 | G2: 単価 | H2: 金額 | I2: 適要 | K2: 2017年度実績
A3: 1 | B3: 飲物 | E3: お茶 | F3: 1 | G3: 1000 | H3: =F3*G3 -> 1000 | I3: 0 | K3: 印刷代 | L3: 1730
A4: =A3+1 -> 2 | B4: 雑品 | E4: 紙コップ、収納袋他 | F4: 1 | G4: 1000 | H4: =F4*G4 -> 1000 | I4: 0
A5: =A4+1 -> 3 | B5: 印刷代 | F5: 1 | G5: 1000 | H5: 1800 | I5: 1730
A6: =A5+1 -> 4
A7: =A6+1 -> 5
A8: =A7+1 -> 6
A9: =A8+1 -> 7
A10: =A9+1 -> 8
A11: =A10+1 -> 9
A12: =A11+1 -> 10
A13: =A12+1 -> 11
A14: =A13+1 -> 12
A15: =A14+1 -> 13
A16: =A15+1 -> 14
A17: =A16+1 -> 15
F18: 合計 | G18: =SUM(H3:H17) -> 3800
B19: 2017年度計画 | C19: 0
B20: 2017年度実績 | C20: =+L21 -> 1730
B21: 2018年度計画 | C21: =ROUNDUP(G18,-3) -> 4000 | K21: =SUM(K2:K20) -> 0 | L21: =SUM(L3:L20) -> 1730
I22: =SUM(I3:I21) -> 1730

Sheet 行事予算計画(五月人形飾り）2018年度 )
A1: 2018年度(15期)行事予算計画：五月人形飾り | E1: Priority Items：新企画、ひな人形飾りと同様な企画
A2: 番号 | B2: 購入品名 | C2: 使用箇所 | D2: 使用用途 | E2: 仕様（色等） | F2: 数量 | G2: 単価 | H2: 金額 | I2: 適要 | K2: 2017年度実績
A3: 1 | B3: オーナメント | C3: エントランス 管理室前 | E3: ミニ飾り（桃太郎、金太郎、カブトなど） | F3: 1 | G3: 7000 | H3: =F3*G3 -> 7000 | I3: 0 | K3: 無し
A4: =A3+1 -> 2 | B4: オーナメント | C4: 管理室時計下 | E4: ミニミニ飾り | F4: 1 | G4: 5000 | H4: =F4*G4 -> 5000 | I4: 0
A5: =A4+1 -> 3 | B5: オーナメント | C5: エントランス 管理室前 | E5: ミニ鯉のぼり | F5: 1 | G5: 7000 | H5: =F5*G5 -> 7000 | I5: 0
A6: =A5+1 -> 4 | B6: オブジェ | C6: エントランス 管理室前 | E6: 菖蒲他 | F6: 1 | G6: 1000 | H6: =F6*G6 -> 1000 | I6: 0
A7: =A6+1 -> 5
A8: =A7+1 -> 6
A9: =A8+1 -> 7
A10: =A9+1 -> 8
A11: =A10+1 -> 9
A12: =A11+1 -> 10
A13: =A12+1 -> 11
A14: =A13+1 -> 12
A15: =A14+1 -> 13
A16: =A15+1 -> 14
A17: =A16+1 -> 15
F18: 合計 | G18: =SUM(H3:H17) -> 20000
B19: 2017年度計画 | C19: 0
B20: 2017年度実績 | C20: 0
B21: 2018年度計画 | C21: =ROUNDUP(G18,-3) -> 20000 | K21: =SUM(K2:K20) -> 0 | L21: =SUM(L3:L20) -> 0
I22: =SUM(I3:I21) -> 0

Sheet Sheet1

Sheet Sheet2

Sheet 2017年度イベント予算集計
C2: 予算 | D2: 20000 | E2: 130000 | F2: 60000 | G2: 80000 | H2: 105000 | I2: 70000 | J2: 50000 | K2: 20000 | L2: 45000 | M2: 0 | N2: 10000 | O2: 30000
C3: 集計 | D3: 20497 | E3: 132070 | F3: 45194 | H3: 53265 | I3: 67795 | J3: 65994 | K3: 8892 | L3: 37249 | M3: 13109 | N3: 4000 | O3: 35092
D4: =+D88 -> 20497 | E4: =+E88 -> 132070 | F4: =+F88 -> 45194 | G4: =+G88 -> 0 | H4: =+H88 -> 53265 | I4: =+I88 -> 67795 | J4: =+J88 -> 65994 | K4: =+K88 -> 8892 | ... Q4: =+Q88 -> 0
D5: ①七夕(7/7) | E5: ②夏まつり(7/16) | F5: ③運動会(9/24) | G5: 芋煮 | H5: ④もちつき（11/12） | I5: ⑤クリスマス飾り | J5: ⑥正月飾り | K5: ⑦鏡開き(1/14) | L5: ⑧新年顔合わせ会(1/14) | M5: ⑨ひな人形飾り(3/3) | N5: バザー | O5: 備品
B6: ①七夕(7/7) | C6: 七夕飾り（土のう） | D6: 515
B7: ②夏まつり(7/16) | C7: サインクリップ | E7: 392
B8: 備品 | C8: のぼり、吊り下げひも、他 | O8: 4300
B9: ①七夕(7/7) | C9: 七夕飾り（笹） | D9: 14040
B10: 宇喜田小島地区自治連協議会分担金 | C10: 宇喜田小島地区自治連協議会分担金
B11: アルミ缶回収費 | C11: 2017年06月 80kg×@50
B12: ①七夕(7/7) | C12: 七夕飾り（印刷代） | D12: 260
B13: 切手代・印刷代 | C13: 印刷代
B14: ①七夕(7/7) | C14: 七夕飾り（飾り） | D14: 3598
B15: ①七夕(7/7) | C15: 七夕飾り（飾り） | D15: 2084
B16: 備品 | C16: のし袋 | O16: 108
B17: ②夏まつり(7/16) | C17: ビンゴカード | E17: 216
B18: ②夏まつり(7/16) | C18: ＬＰガス2kg代金 | E18: 1944
B19: 備品 | C19: 干支人形 | O19: 12960
B20: ②夏まつり(7/16) | C20: スイカ３個、コーヒー | E20: 9549
B21: ②夏まつり(7/16) | C21: ドリンク、景品 | E21: 25479
B22: ②夏まつり(7/16) | C22: 食品 | E22: 41092
B23: ②夏まつり(7/16) | C23: 交通費 | E23: 340
B24: ②夏まつり(7/16) | C24: 交通費 | E24: 340
B25: ②夏まつり(7/16) | C25: 交通費 | E25: 340
B26: ②夏まつり(7/16) | C26: 食材 | E26: 1132
B27: ②夏まつり(7/16) | C27: 印刷代、備品 | E27: 3436
B28: ①夏まつり(7/16) | C28: 総売上（参加費＋売上）
B29: ●弔慰金
B30: ●弔慰金
B31: アルミ缶回収費
B32: ③青い羽根募金
B33: ③運動会(9/24) | C33: 運動会自治会分担金 | F33: 7800
B34: ②夏まつり(7/16) | C34: ビール | E34: 47810
B35: ●弔慰金
B36: 備品 | C36: ＴＶ投影装置（EZCast Ｐｒｏ） | O36: 13932
B37: 備品 | C37: 名札ケース | O37: 944
B38: 交通費
B39: アルミ缶回収費
B40: ③運動会(9/24) | C40: 飲物 | F40: 1058
B41: ③運動会(9/24) | C41: くだもの | F41: 853
...
