Workbook
Name Excel_BuiltIn__FilterDatabase: '収支明細(入力)'!$A$1:$G$34

Sheet 収支明細(入力)
A1: 収支明細 (2013.4.1～) | G1: 網掛け（*）・・・銀行口座への振込・引き落とし
A2: 領収書月日 | B2: 収支 | C2: 科目 | D2: 補助 | E2: 摘要 | F2: 収入 | G2: 支出
A3: 41754 | B3: 支出 | C3: 05.活動費③募金支出 | D3: ①緑の募金 | E3: ①緑の募金 | G3: 1000
A4: 41782 | B4: 支出 | C4: 05.活動費③募金支出 | D4: ②赤十字社活動募金 | E4: ②赤十字社活動募金 | G4: 2000
A5: 41770 | B5: 支出 | C5: 09.渉外費 | D5: ①宇喜田・小島地区自治連懇親会（5/11） | E5: ①宇喜田・小島地区自治連懇親会（6*3000） | G5: 18000
A6: 41750 | B6: 支出 | C6: 09.渉外費 | D6: ②わんわんウォーキング分担金（5/17） | E6: ②わんわんウォーキング分担金（5/17） | G6: 5000
A7: 41759 | B7: 収入 | C7: 04.その他収入①アルミ缶回収費 | D7: 平成26年04月 110kg×@50 | E7: 平成26年04月 110kg×@50 | F7: 5500
A8: 41784 | B8: 支出 | C8: 05.活動費①行事支出 | D8: その他 | E8: 語り合う会 | G8: 1048
A9: 41784 | B9: 支出 | C9: 09.渉外費 | D9: ③自治会会議費懇親会費(5/25) | E9: ③自治会会議費懇親会費(5/25) | G9: 26836
A10: 41787 | B10: 収入 | C10: 04.その他収入①アルミ缶回収費 | D10: 平成26年05月 110kg×@50 | E10: 平成26年05月 110kg×@50 | F10: 5500
A11: 41805 | B11: 支出 | C11: 05.活動費①行事支出 | D11: ①七夕(7/7) | E11: 七夕飾り（かざり） | G11: 1481
A12: 41811 | B12: 支出 | C12: 05.活動費①行事支出 | D12: ①七夕(7/7) | E12: 七夕飾り（かざり） | G12: 921
A13: 41816 | B13: 支出 | C13: 05.活動費①行事支出 | D13: ①七夕(7/7) | E13: 七夕飾り（かざり） | G13: 392
A14: 41818 | B14: 支出 | C14: 08.消耗品費 | D14: 消耗品 | E14: ホワイトボードマーカー | G14: 216
A15: 41806 | B15: 支出 | C15: 05.活動費①行事支出 | D15: ①七夕(7/7) | E15: 七夕飾り（かざり） | G15: 2828
A16: 41829 | B16: 支出 | C16: 05.活動費③募金支出 | D16: ③青い羽根募金 | E16: ③青い羽根募金 | G16: 1000
A17: 41829 | B17: 支出 | C17: 05.活動費①行事支出 | D17: ②夏まつり(7/13) | E17: ＬＰガス（２ｋｇ） | G17: 864
A18: 41826 | B18: 支出 | C18: 05.活動費①行事支出 | D18: ②夏まつり(7/13) | E18: 日本酒 | G18: 1922
A19: 41813 | B19: 支出 | C19: 02.自治連年会費 | D19: 宇喜田小島地区自治連協議会分担金 | E19: 宇喜田小島地区自治連協議会分担金 | G19: 23000
A20: 41823 | B20: 支出 | C20: 05.活動費①行事支出 | D20: ②夏まつり(7/13) | E20: ビンゴ景品 | G20: 10710
A21: 41830 | B21: 支出 | C21: 05.活動費①行事支出 | D21: ②夏まつり(7/13) | E21: スーパーボール、飲み物等 | G21: 6340
A22: 41828 | B22: 支出 | C22: 05.活動費①行事支出 | D22: ②夏まつり(7/13) | E22: 交通費（加藤） | G22: 165
... A27: 41828 | B27: 支出 | C27: 05.活動費①行事支出 | D27: ②夏まつり(7/13) | E27: 交通費（塩瀬） | G27: 165
A28: 41833 | B28: 収入 | C28: 03.行事収入 | D28: ①夏まつり(7/13) | E28: 総売上（参加費＋売上） | F28: 42500
A29: 41832 | B29: 支出 | C29: 05.活動費①行事支出 | D29: ②夏まつり(7/13) | E29: ビンゴカード | G29: 216
A30: 41815 | B30: 収入 | C30: 04.その他収入①アルミ缶回収費 | D30: 平成26年06月 90kg×@50 | E30: 平成26年06月 90kg×@50 | F30: 4500
A31: 41812 | B31: 支出 | C31: 05.活動費①行事支出 | D31: ①七夕(7/7) | E31: 竹代 | G31: 10000
A32: 41833 | B32: 支出 | C32: 05.活動費①行事支出 | D32: ②夏まつり(7/13) | E32: コーヒー代、スイカ×４個 | G32: 14144
A33: 41833 | B33: 支出 | C33: 05.活動費①行事支出 | D33: ②夏まつり(7/13) | E33: ラミネート、アイス代 | G33: 2338
A34: 41833 | B34: 支出 | C34: 05.活動費①行事支出 | D34: ②夏まつり(7/13) | E34: ビール代 | G34: 45470
A35: 41864 | B35: 支出 | C35: 09.渉外費 | D35: ④弔慰金（204近松様ご主人/8月9日逝去） | E35: ④弔慰金（204近松様ご主人/8月9日逝去） | G35: 10000
A36: 41850 | B36: 収入 | C36: 04.その他収入①アルミ缶回収費 | D36: 平成26年07月 150kg×@50 | E36: 平成26年07月 150kg×@50 | F36: 7500
A37: 41862 | B37: 支出 | C37: 05.活動費①行事支出 | D37: ③運動会(9/28) | E37: 運動会自治会分担金 | G37: 7800
A38: 41877 | B38: 支出 | C38: 07.備品費 | D38: 備品 | E38: ペットボトル集団回収用ゴミ袋 | G38: 2980
A39: 41879 | B39: 収入 | C39: 04.その他収入①アルミ缶回収費 | D39: 平成26年08月 150kg×@50 | E39: 平成26年08月 150kg×@50 | F39: 7500
A40: 41902 | B40: 支出 | C40: 09.渉外費 | D40: ⑤弔慰金（420早福様丸山幸江様/9月16日逝去） | E40: ⑤弔慰金（420早福様丸山幸江様/9月16日逝去） | G40: 10000
A41: 41904 | B41: 支出 | C41: 05.活動費①行事支出 | D41: ③運動会(9/28) | E41: 飲み物・ビール | G41: 9059
A42: 41904 | B42: 支出 | C42: 05.活動費①行事支出 | D42: ④いも煮会(10/13) | E42: 飲み物・ビール | G42: 9000
A43: 41905 | B43: 支出 | C43: 05.活動費①行事支出 | D43: ③運動会(9/28) | E43: わかめスープ、麦茶 | G43: 3038
A44: 41909 | B44: 支出 | C44: 05.活動費①行事支出 | D44: ③運動会(9/28) | E44: バナナ、梅干し | G44: 2214
...

Sheet 収支表示（集計）
A1: 第１１期自治会収支報告
D3: データ
A4: 収支 | B4: 科目 | C4: 補助 | D4: 収入の部 | E4: 支出の部
A5: 収入 | B5: 01.コミュニティ費 | C5: 2013年12月～2014年5月* | D5: 250000
C6: 2014年06月～2014年11月* | D6: 250000
B7: 01.コミュニティ費 集計 | D7: 500000
B8: 02.区・文書等配布委託金 | C8: 刊行物配布委託料 | D8: 130800
B9: 02.区・文書等配布委託金 集計 | D9: 130800
B10: 03.行事収入 | C10: ①夏まつり(7/13) | D10: 42500
C11: ②いも煮会（10/13） | D11: 17900
B12: 03.行事収入 集計 | D12: 60400
B13: 04.その他収入①アルミ缶回収費 | C13: 集団回収報奨金(2013年10月〜2014年03月)* | D13: 3540
C14: 集団回収報奨金(2014年04月〜2014年09月)* | D14: 5280
C15: 平成26年04月 110kg×@50 | D15: 5500
C16: 平成26年05月 110kg×@50 | D16: 5500
C17: 平成26年06月 90kg×@50 | D17: 4500
C18: 平成26年07月 150kg×@50 | D18: 7500
C19: 平成26年08月 150kg×@50 | D19: 7500
C20: 平成26年09月 170kg×@50 | D20: 8500
C21: 平成26年10月 200kg×@50 | D21: 10000
C22: 平成26年11月 140kg×@50 | D22: 7000
C23: 平成26年12月 130kg×@50 | D23: 6500
C24: 平成27年1月 120kg×@50 | D24: 6000
C25: 平成27年2月 100kg×@50 | D25: 5000
B26: 04.その他収入①アルミ缶回収費 集計 | D26: 82320
B27: 04.その他収入②その他 | C27: ノートＰＣ分担金 | D27: 37692
C28: 銀行利息* | D28: 233
B29: 04.その他収入②その他 集計 | D29: 37925
B30: 05.寄付金 | C30: ①夏まつり（東京葬祭）（7/13） | D30: 30000
C31: ②防災訓練（東京葬祭寄付金） | D31: 30000
C32: ③区民運動会（東京葬祭寄付金） | D32: 30000
C33: ④いも煮会（東京葬祭寄付金） | D33: 30000
C34: ⑤新年会、餅つき（東京葬祭寄付金） | D34: 60000
B35: 05.寄付金 集計 | D35: 180000
A36: 支出 | B36: 01.行政分担金 | C36: 葛西まつり分担金 | E36: 6540
C37: 葛西防犯カメラの会分担金 | E37: 6540
C38: 自治連分担金 | E38: 11990
C39: 社会福祉協議会正会員会費 | E39: 2180
B40: 01.行政分担金 集計 | E40: 27250
B41: 02.自治連年会費 | C41: 宇喜田小島地区自治連協議会分担金 | E41: 23000
...

Sheet 今期決算書案
A1: 第１１期（平成２６年度）決算書案
A3: ２０１４年４月１日～２０１５年３月３１日
H4: (単位：円）
A5: 収 入 の 部 | E5: 支 出 の 部
A6: 科 目 | B6: 予算額 | C6: 実績額 | D6: 備 考 | E6: 科 目 | F6: 予算額 | G6: 実績額 | H6: 備 考
A7: コミュニティ費（旧自治会費） | B7: 500000 | C7: =GETPIVOTDATA("収入の部",'収支表示（集計）'!$A$3,"収支","収入","科目","01.コミュニティ費") -> 500000 | E7: 行政分担金 | F7: 27250 | G7: =GETPIVOTDATA("支出の部",'収支表示（集計）'!$A$3,"収支","支出","科目","01.行政分担金") -> 27250
A8: 区・文書等配布委託金 | B8: 130800 | C8: =GETPIVOTDATA("収入の部",'収支表示（集計）'!$A$3,"収支","収入","科目","02.区・文書等配布委託金") -> 130800 | E8: 自治連年会費 | F8: 23000 | G8: =GETPIVOTDATA("支出の部",'収支表示（集計）'!$A$3,"収支","支出","科目","02.自治連年会費") -> 23000
A9: 行事収入 | B9: 50000 | C9: =GETPIVOTDATA("収入の部",'収支表示（集計）'!$A$3,"収支","収入","科目","03.行事収入") -> 60400 | E9: 防犯協会加入分担金 | F9: 15000 | G9: =GETPIVOTDATA("支出の部",'収支表示（集計）'!$A$3,"収支","支出","科目","03.防犯協会加入分担金") -> 12630
A10: その他収入 | B10: 67000 | C10: =SUM(C11:C12) -> 120245 | E10: 活動費 | F10: 625100 | G10: =SUM(G11:G14) -> 613065
A11: ①アルミ缶回収費 | B11: 65000 | C11: =GETPIVOTDATA("収入の部",'収支表示（集計）'!$A$3,"収支","収入","科目","04.その他収入①アルミ缶回収費") -> 82320 | E11: ①行事支出 | F11: 575000 | G11: =GETPIVOTDATA("支出の部",'収支表示（集計）'!$A$3,"収支","支出","科目","05.活動費①行事支出") -> 564441
A12: ②その他 | B12: 2000 | C12: =GETPIVOTDATA("収入の部",'収支表示（集計）'!$A$3,"収支","収入","科目","04.その他収入②その他") -> 37925 | D12: 利息・他 | E12: ②自治会保険料 | F12: 35100 | G12: =GETPIVOTDATA("支出の部",'収支表示（集計）'!$A$3,"収支","支出","科目","05.活動費②自治会保険料") -> 35100
A13: 寄付金 | B13: 150000 | C13: =GETPIVOTDATA("収入の部",'収支表示（集計）'!$A$3,"収支","収入","科目","05.寄付金") -> 180000 | E13: ③募金支出 | F13: 5000 | G13: =GETPIVOTDATA("支出の部",'収支表示（集計）'!$A$3,"収支","支出","科目","05.活動費③募金支出") -> 7000
E14: ④その他 | F14: 10000 | G14: =GETPIVOTDATA("支出の部",'収支表示（集計）'!$A$3,"収支","支出","科目","05.活動費④その他") -> 6524
E15: 印刷関係費 | F15: 40000 | G15: =GETPIVOTDATA("支出の部",'収支表示（集計）'!$A$3,"収支","支出","科目","06.印刷関係費") -> 38690
E16: 備品費 | F16: 50000 | G16: =GETPIVOTDATA("支出の部",'収支表示（集計）'!$A$3,"収支","支出","科目","07.備品費") -> 95235
E17: 消耗品費 | F17: 10000 | G17: =GETPIVOTDATA("支出の部",'収支表示（集計）'!$A$3,"収支","支出","科目","08.消耗品費") -> 3850
E18: 渉外費 | F18: 150000 | G18: =GETPIVOTDATA("支出の部",'収支表示（集計）'!$A$3,"収支","支出","科目","09.渉外費") -> 167324
E19: 銀行手数料 | F19: 5000 | G19: =GETPIVOTDATA("支出の部",'収支表示（集計）'!$A$3,"収支","支出","科目","10.銀行手数料") -> 2700
E20: 予備費 | F20: 30000 | G20: 0
A21: 収入合計 | B21: 897800 | C21: =SUM(C7:C10)+C13 -> 991445 | E21: 支出合計 | F21: =SUM(F7:F10)+SUM(F15:F20) -> 975350 | G21: =SUM(G7:G10)+SUM(G15:G20) -> 983744
A22: 前期繰越金 | B22: 1554271 | C22: =B22 -> 1554271 | E22: 次期繰越金 | F22: 1476721 | G22: =G23-G21 -> 1561972
A23: 収入・繰越金合計 | B23: =SUM(B21:B22) -> 2452071 | C23: =SUM(C21:C22) -> 2545716 | E23: 支出・繰越金合計 | F23: =SUM(F21:F22) -> 2452071 | G23: =C23 -> 2545716
A25: ２０１５年 月 日
A27: 第１１期収支決算を上記の通り上程し、ご報告いたします。
D28: バームハイツ西葛西自治会
D29: 会 長 | E29: 関 根 弘 二
A30: =A25 -> ２０１５年 月 日
A32: 第１１期決算書を監査した結果、適正なることを認めます。
D33: 監 事 | E33: 星 野 武 夫

Sheet 次期予算案
A1: 第１２期（平成２７年度）予算案
A2: ２０１５年４月１日～２０１６年３月３１日 | H2: (単位：円）
A3: 収 入 の 部 | E3: 支 出 の 部
A4: 科 目 | B4: 前期実績 | C4: 予算額 | D4: 備 考 | E4: 科 目 | F4: 前期実績 | G4: 予算額 | H4: 備 考
A5: コミュニティ費（旧自治会費） | B5: =今期決算書案!C7 -> 500000 | C5: 500000 | D5: 注1 | E5: 行政分担金 | F5: =今期決算書案!G7 -> 27250 | G5: 27250
A6: 区・文書等配布委託金 | B6: =今期決算書案!C8 -> 130800 | C6: 130800 | E6: 自治連年会費 | F6: =今期決算書案!G8 -> 23000 | G6: 23000
A7: 行事収入 | B7: =今期決算書案!C9 -> 60400 | C7: 60000 | E7: 防犯協会加入分担金 | F7: =今期決算書案!G9 -> 12630 | G7: 15000
A8: その他収入 | B8: =今期決算書案!C10 -> 120245 | C8: =C9+C10 -> 85000 | E8: 活動費 | F8: =今期決算書案!G10 -> 613065 | G8: =SUM(G9:G12) -> 642100
A9: ①アルミ缶回収費 | B9: =今期決算書案!C11 -> 82320 | C9: 83000 | D9: 注2 | E9: ①行事支出 | F9: =今期決算書案!G11 -> 564441 | G9: ='【行事予算案（入力）】）'!J12 -> 590000 | H9: 注4
A10: ②その他 | B10: =今期決算書案!C12 -> 37925 | C10: 2000 | D10: 利息等 | E10: ②自治会保険料 | F10: =今期決算書案!G12 -> 35100 | G10: 35100
A11: 寄付金 | B11: =今期決算書案!C13 -> 180000 | C11: 150000 | D11: 注3 | E11: ③募金支出 | F11: =今期決算書案!G13 -> 7000 | G11: 7000
E12: ④その他 | F12: =今期決算書案!G14 -> 6524 | G12: 10000
E13: 印刷関係費 | F13: =今期決算書案!G15 -> 38690 | G13: 40000
E14: 備品費 | F14: =今期決算書案!G16 -> 95235 | G14: 150000 | H14: 注5
E15: 消耗品費 | F15: =今期決算書案!G17 -> 3850 | G15: 10000
E16: 渉外費 | F16: =今期決算書案!G18 -> 167324 | G16: 170000 | H16: 注6
E17: 銀行手数料 | F17: =今期決算書案!G19 -> 2700 | G17: 3000
E18: 予備費 | F18: =今期決算書案!G20 -> 0 | G18: 30000
A19: 収入合計 | B19: =今期決算書案!C21 -> 991445 | C19: =SUM(C5:C8)+C11 -> 925800 | E19: 支出合計 | F19: =今期決算書案!G21 -> 983744 | G19: =SUM(G5:G8)+SUM(G13:G18) -> 1110350
A20: 前期繰越金 | B20: =今期決算書案!C22 -> 1554271 | C20: =今期決算書案!G22 -> 1561972 | E20: 次期繰越金 | F20: =今期決算書案!G22 -> 1561972 | G20: =G21-G19 -> 1377422
A21: 収入・繰越金合計 | B21: =今期決算書案!C23 -> 2545716 | C21: =SUM(C19:C20) -> 2487772 | E21: 支出・繰越金合計 | F21: =今期決算書案!G23 -> 2545716 | G21: =C21 -> 2487772

Sheet 【行事予算案（入力）】）
J2: 今期予算 | L2: 前期実績 | N2: 前期予算
A3: 注1 | B3: コミュニティ費 | D3: 500000 | E3: 円 | G3: 注4 | H3: 行事支出 | I3: 七 夕 | J3: 15000 | K3: 円（ | L3: 15622 | M3: 円/ | N3: 15000 | O3: 円）
I4: 夏まつり | J4: 130000 | K4: 円（ | L4: 125053 | M4: 円/ | N4: 130000 | O4: 円）
A5: 注2 | B5: 回収費 | C5: @6,500×12か月＝ | D5: 78000 | E5: 円 | I5: 運動会 | J5: 90000 | K5: 円（ | L5: 89429 | M5: 円/ | N5: 70000 | O5: 円）
B6: 区の報奨金 | D6: 5000 | E6: 円 | I6: いも煮会 | J6: 90000 | K6: 円（ | L6: 89791 | M6: 円/ | N6: 70000 | O6: 円）
B7: 合計 | D7: =SUM(D5:D6) -> 83000 | E7: 円 | I7: クリスマス飾り | J7: 40000 | K7: 円（ | L7: 42155 | M7: 円/ | N7: 30000 | O7: 円）
I8: 正月飾り | J8: 45000 | K8: 円（ | L8: 45034 | M8: 円/ | N8: 45000 | O8: 円）
A9: 注3 | B9: 寄付金 | C9: @30,000×5回＝ | D9: 150000 | E9: 円 | I9: 新年会 | J9: 70000 | K9: 円（ | L9: 66309 | M9: 円/ | N9: 50000 | O9: 円）
I10: もちつき | J10: 100000 | K10: 円（ | L10: 90000 | M10: 円/ | N10: 150000 | O10: 円）
A11: 注5 | B11: テント | D11: 100000 | E11: 円 | I11: その他 | J11: 10000 | K11: 円（ | L11: 1048 | M11: 円/ | N11: 15000 | O11: 円）
B12: その他 | D12: 50000 | E12: 円 | I12: 合計 | J12: =SUM(J3:J11) -> 590000 | K12: 円（ | L12: =SUM(L3:L11) -> 564441 | M12: 円/ | N12: =SUM(N3:N11) -> 575000 | O12: 円）
B13: 合計 | D13: =SUM(D11:D12) -> 150000 | E13: 円
G14: 注6 | H14: 渉外費 | I14: 自治連会合費(総会・新年会他) | J14: 130000 | K14: 円
I15: 研修会・その他 | J15: 40000 | K15: 円
I16: 合計 | J16: =SUM(J14:J15) -> 170000 | K16: 円

Sheet 今期貸借対照表
A1: 第１１期（平成２６年度）貸借対照表（案）
A3: ２０１５年３月３１日現在
F4: (単位：円）
A5: 資 産 の 部 | D5: 負債及び繰越金の部
A6: 科 目 | C6: 金額 | D6: 科 目 | F6: 金額
A7: 現預金 | B7: 普通預金 | C7: 1459655 | D7: 未払金 | E7: 未払金 | F7: 0
B8: 現金 | C8: 102317 | D8: 前受金 | E8: 前受金 | F8: 0
B9: 小計 | C9: =SUM(C7:C8) -> 1561972 | D9: 預り金 | E9: 預り金・借受金 | F9: 0
D10: 振替金 | E10: 未振替金 | F10: 0
A11: 未収入金 | B11: 未収入金 | C11: 0
B12: 仮払金 | C12: 0
D16: 次期繰越金 | F16: =今期決算書案!G22 -> 1561972
A17: 合 計 | C17: =C9+C11+C12 -> 1561972 | D17: 合 計 | F17: =SUM(F7:F16) -> 1561972

Sheet 収支明細(2013年度参考)
A1: 収支明細 (2013.4.1～) | G1: 網掛け（*）・・・銀行口座への振込・引き落とし
A2: 領収書月日 | B2: 収支 | C2: 科目 | D2: 補助 | E2: 摘要 | F2: 収入 | G2: 支出
A3: 41369 | B3: 支出 | C3: 08.消耗品費 | D3: 消耗品 | E3: ホワイトボードマーカー | G3: 210
A4: 41370 | B4: 支出 | C4: 05.活動費①行事支出 | D4: その他 | E4: 春まつり 試食 | G4: 3734
A5: 41376 | B5: 支出 | C5: 05.活動費③募金支出 | D5: ①緑の募金 | E5: ①緑の募金 | G5: 1000
A6: 41396 | B6: 支出 | C6: 05.活動費③募金支出 | D6: ②赤十字社活動募金 | E6: ②赤十字社活動募金 | G6: 2000
A7: 41384 | B7: 支出 | C7: 05.活動費①行事支出 | D7: その他 | E7: 語り合う会 | G7: 2330
A8: 41388 | B8: 収入 | C8: 04.その他収入①アルミ缶回収費 | D8: 平成25年04月 100kg×@30 | E8: 平成25年04月 100kg×@30 | F8: 3000
A9: 41401 | B9: 支出 | C9: 09.渉外費 | D9: ②わんわんウォーキング分担金（5/25） | E9: わんわんウォーキング分担金 | G9: 5000
A10: 41406 | B10: 支出 | C10: 09.渉外費 | D10: ①宇喜田・小島地区自治連懇親会（5/12） | E10: ①宇喜田・小島地区自治連懇親会（4*3000） | G10: 12000
A11: 41419 | B11: 支出 | C11: 05.活動費①行事支出 | D11: その他 | E11: 総会お茶菓子 | G11: 795
A12: 41420 | B12: 支出 | C12: 09.渉外費 | D12: ③自治会会議費懇親会費(5/26) | E12: 自治会会議費懇親会費 | G12: 34878
A13: 41424 | B13: 収入 | C13: 04.その他収入①アルミ缶回収費 | D13: 平成25年05月 140kg×@30 | E13: 平成25年05月 140kg×@30 | F13: 4200
A14: 41449 | B14: 支出 | C14: 02.自治連年会費 | D14: 宇喜田小島地区自治連協議会分担金 | E14: 宇喜田小島地区自治連協議会分担金 | G14: 23000
A15: 41448 | B15: 支出 | C15: 05.活動費①行事支出 | D15: ①七夕(7/7) | E15: 七夕飾り（竹） | G15: 8000
A16: 41452 | B16: 支出 | C16: 05.活動費①行事支出 | D16: ①七夕(7/7) | E16: 七夕飾り（短冊） | G16: 390
A17: 41436 | B17: 支出 | C17: 05.活動費①行事支出 | D17: ①七夕(7/7) | E17: 七夕飾り（かざり） | G17: 4699
A18: 41462 | B18: 支出 | C18: 05.活動費③募金支出 | D18: ③青い羽根募金 | E18: ③青い羽根募金 | G18: 1000
A19: 41470 | B19: 支出 | C19: 05.活動費①行事支出 | D19: ②夏まつり(7/21) | E19: ＬＰガス（２ｋｇ） | G19: 840
A20: 41470 | B20: 支出 | C20: 05.活動費①行事支出 | D20: ②夏まつり(7/21) | E20: 景品（クオカード） | G20: 1980
A21: 41470 | B21: 支出 | C21: 05.活動費①行事支出 | D21: ②夏まつり(7/21) | E21: 景品 | G21: 420
A22: 41470 | B22: 支出 | C22: 05.活動費①行事支出 | D22: ②夏まつり(7/21) | E22: 備品 | G22: 1260
A23: 41470 | B23: 支出 | C23: 05.活動費①行事支出 | D23: ②夏まつり(7/21) | E23: 景品 | G23: 5681
A24: 41470 | B24: 支出 | C24: 05.活動費①行事支出 | D24: ②夏まつり(7/21) | E24: 食品他 | G24: 18921
A25: 41470 | B25: 収入 | C25: 03.行事収入 | D25: ①夏まつり(7/21) | E25: 会費 | F25: 21300
A26: 41470 | B26: 収入 | C26: 03.行事収入 | D26: ①夏まつり(7/21) | E26: 売上 | F26: 14700
A27: 41473 | B27: 支出 | C27: 05.活動費①行事支出 | D27: ②夏まつり(7/21) | E27: 食品 | G27: 1853
A28: 41473 | B28: 支出 | C28: 05.活動費①行事支出 | D28: ②夏まつり(7/21) | E28: 交通費（小野） | G28: 160
A29: 41473 | B29: 支出 | C29: 05.活動費①行事支出 | D29: ②夏まつり(7/21) | E29: 交通費（塩瀬） | G29: 160
A30: 41473 | B30: 支出 | C30: 05.活動費①行事支出 | D30: ②夏まつり(7/21) | E30: 交通費（加藤） | G30: 160
A31: 41473 | B31: 支出 | C31: 05.活動費①行事支出 | D31: ②夏まつり(7/21) | E31: 食品他 | G31: 33732
A32: 41473 | B32: 支出 | C32: 05.活動費①行事支出 | D32: ②夏まつり(7/21) | E32: ビール | G32: 44750
A33: 41470 | B33: 支出 | C33: 05.活動費①行事支出 | D33: ②夏まつり(7/21) | E33: 日本酒 | G33: 1869
A34: 41469 | B34: 支出 | C34: 05.活動費①行事支出 | D34: ②夏まつり(7/21) | E34: スイカ | G34: 3900
A35: 41474 | B35: 支出 | C35: 05.活動費①行事支出 | D35: ②夏まつり(7/21) | E35: コーヒー | G35: 640
A36: 41451 | B36: 収入 | C36: 04.その他収入①アルミ缶回収費 | D36: 平成25年06月 120kg×@30 | E36: 平成25年06月 120kg×@30 | F36: 3600
A37: 41486 | B37: 収入 | C37: 04.その他収入①アルミ缶回収費 | D37: 平成25年07月 130kg×@30 | E37: 平成25年07月 130kg×@30 | F37: 3900
A38: 41513 | B38: 支出 | C38: 05.活動費①行事支出 | D38: ③運動会(9/29) | E38: 運動会自治会分担金 | G38: 7800
A39: 41515 | B39: 収入 | C39: 04.その他収入①アルミ缶回収費 | D39: 平成25年08月 130kg×@30 | E39: 平成25年08月 130kg×@30 | F39: 3900
A40: 41533 | B40: 支出 | C40: 07.備品費 | D40: 備品 | E40: ジャグ | G40: 2452
...
